BEGIN:VCALENDAR
VERSION:2.0
PRODID:-//ChamberMaster//Event Calendar 2.0//EN
METHOD:PUBLISH
X-PUBLISHED-TTL:P3D
REFRESH-INTERVAL:P3D
CALSCALE:GREGORIAN
BEGIN:VEVENT
DTSTART:20190907T153000Z
DTEND:20190907T160000Z
X-MICROSOFT-CDO-ALLDAYEVENT:FALSE
SUMMARY:Grandparents Day Story Time
DESCRIPTION:Join us in celebrating Grandparents Day with a very special story time! After story time\, head on over to The Sugar Circle to decorate cupcakes!*\n\n\n\n*Cupcake decorating will cost a small fee
X-ALT-DESC;FMTTYPE=text/html:Join us in celebrating Grandparents Day with a very special story time! After story time\, head on over to The Sugar Circle to decorate cupcakes!*<br />\n<br />\n*Cupcake decorating will cost a small fee
LOCATION:Read Between the Lynes 111 E Van Buren St Woodstock\, IL 60098
UID:e.2851.10254
SEQUENCE:3
DTSTAMP:20260423T111606Z
URL:https://business.woodstockilchamber.com/events/details/grandparents-day-story-time-10254
END:VEVENT

END:VCALENDAR
