BEGIN:VCALENDAR
VERSION:2.0
PRODID:-//ChamberMaster//Event Calendar 2.0//EN
METHOD:PUBLISH
X-PUBLISHED-TTL:P3D
REFRESH-INTERVAL:P3D
CALSCALE:GREGORIAN
BEGIN:VEVENT
DTSTART:20200823T000000Z
DTEND:20200823T013000Z
X-MICROSOFT-CDO-ALLDAYEVENT:FALSE
SUMMARY:Great Lakes Steelpan Festival / Woodstock Jazz Festival - Morning
DESCRIPTION:Culture\, Arts & Music is proud to bring Mr. Clyde "Lightning" George back to Woodstock for the first union of the Great Lakes Steelpan Festival and the Woodstock Jazz Festival. Nobody better embodies the marriage of steelpan and jazz then Lightning. Being known around Chicago as the Thelonious Monk of pan since he moved to Chicago from Trinidad in the '70s. The last time Lightning was in Woodstock it was for a sold-out performance at Stage Left Cafe while being accompanied by a Potts & Pans trio and we can't wait for him to be back! Don't miss this amazing performance.\n\n\n\nAdmission is free but donations are encouraged and much appreciated.
X-ALT-DESC;FMTTYPE=text/html:Culture\, Arts &amp\; Music is proud to bring Mr. Clyde &quot\;Lightning&quot\; George back to Woodstock for the first union of the Great Lakes Steelpan Festival and the Woodstock Jazz Festival. Nobody better embodies the marriage of steelpan and jazz then Lightning. Being known around Chicago as the Thelonious Monk of pan since he moved to Chicago from Trinidad in the &#39\;70s. The last time Lightning was in Woodstock it was for a sold-out performance at Stage Left Cafe while being accompanied by a Potts &amp\; Pans trio and we can&#39\;t wait for him to be back! Don&#39\;t miss this amazing performance.<br />\n<br />\nAdmission is free but donations are encouraged and much appreciated.
LOCATION:The Woodstock Square
UID:e.2851.11296
SEQUENCE:3
DTSTAMP:20260422T155502Z
URL:https://business.woodstockilchamber.com/events/details/great-lakes-steelpan-festival-woodstock-jazz-festival-morning-08-22-2020-11296
END:VEVENT

END:VCALENDAR
