BEGIN:VCALENDAR
VERSION:2.0
PRODID:-//ChamberMaster//Event Calendar 2.0//EN
METHOD:PUBLISH
X-PUBLISHED-TTL:P3D
REFRESH-INTERVAL:P3D
CALSCALE:GREGORIAN
BEGIN:VEVENT
DTSTART:20200822T140000Z
DTEND:20200822T180000Z
X-MICROSOFT-CDO-ALLDAYEVENT:FALSE
SUMMARY:Great Lakes Steelpan Festival / Woodstock Jazz Festival - Morning
DESCRIPTION:The Great Lakes Steelpan Festival and the Woodstock Jazz Festival have joined forces. Come enjoy a mix of Trinidadian and American cultures. The morning segment of the festival will be during the Farmer's Market and feature 4 local groups.
X-ALT-DESC;FMTTYPE=text/html:The Great Lakes Steelpan Festival and the Woodstock Jazz Festival have joined forces. Come enjoy a mix of Trinidadian and American cultures. The morning segment of the festival will be during the Farmer&#39\;s Market and feature 4 local groups.
LOCATION:The Woodstock Square
UID:e.2851.11295
SEQUENCE:3
DTSTAMP:20260422T173455Z
URL:https://business.woodstockilchamber.com/events/details/great-lakes-steelpan-festival-woodstock-jazz-festival-morning-11295
END:VEVENT

END:VCALENDAR
