BEGIN:VCALENDAR
VERSION:2.0
PRODID:-//ChamberMaster//Event Calendar 2.0//EN
METHOD:PUBLISH
X-PUBLISHED-TTL:P3D
REFRESH-INTERVAL:P3D
CALSCALE:GREGORIAN
BEGIN:VEVENT
DTSTART:20191002T213000Z
DTEND:20191002T233000Z
X-MICROSOFT-CDO-ALLDAYEVENT:FALSE
SUMMARY:GriffoNest Games Ribbon Cutting/Mixer
DESCRIPTION:Join us in welcoming GrffoNest Games\n\nat their Ribbon Cutting.
X-ALT-DESC;FMTTYPE=text/html:Join us in welcoming GrffoNest Games<br />\nat their Ribbon Cutting.
LOCATION:1400 N Seminary Ave\, Suite O Apt. 301 Woodstock\, Illinois 60098
UID:e.2851.10293
SEQUENCE:3
DTSTAMP:20260423T102640Z
URL:https://business.woodstockilchamber.com/events/details/griffonest-games-ribbon-cutting-mixer-10293
END:VEVENT

END:VCALENDAR
