BEGIN:VCALENDAR
VERSION:2.0
PRODID:-//ChamberMaster//Event Calendar 2.0//EN
METHOD:PUBLISH
X-PUBLISHED-TTL:P3D
REFRESH-INTERVAL:P3D
CALSCALE:GREGORIAN
BEGIN:VEVENT
DTSTART:20200131T003000Z
DTEND:20200131T013000Z
X-MICROSOFT-CDO-ALLDAYEVENT:FALSE
SUMMARY:Ground Hog Day Trivia
DESCRIPTION:How many times have you seen the movie Groundhog Day?\n\nCome test your knowledge and your memory against visitors\n\nfrom across the country for prizes and fun. Refreshments\n\navailable. Cash bar.
X-ALT-DESC;FMTTYPE=text/html:<span style="font-size:16px\;"><span style="font-family:times new roman\,serif\;">How many times have you seen the movie Groundhog Day?<br />\nCome test your knowledge and your memory against visitors<br />\nfrom across&nbsp\;the country for prizes and fun. Refreshments<br />\navailable. Cash bar.</span></span>
LOCATION:Stage Left Cafe 125 W. Van Buren St. Woodstock\, IL
UID:e.2851.10466
SEQUENCE:3
DTSTAMP:20260423T034500Z
URL:https://business.woodstockilchamber.com/events/details/ground-hog-day-trivia-10466
END:VEVENT

END:VCALENDAR
