BEGIN:VCALENDAR
VERSION:2.0
PRODID:-//ChamberMaster//Event Calendar 2.0//EN
METHOD:PUBLISH
X-PUBLISHED-TTL:P3D
REFRESH-INTERVAL:P3D
CALSCALE:GREGORIAN
BEGIN:VEVENT
DTSTART:20200201T220000Z
DTEND:20200201T233000Z
X-MICROSOFT-CDO-ALLDAYEVENT:FALSE
SUMMARY:Groundhog Day Bingo
DESCRIPTION:Join Woodstock Willie for a load of fun and games plus a round of bingo!
X-ALT-DESC;FMTTYPE=text/html:Join Woodstock Willie for a load of fun and games plus a round of bingo!
LOCATION:Blue Lotus Buddhist Temple 221 Dean St. Woodstock\, IL
UID:e.2851.10445
SEQUENCE:3
DTSTAMP:20260423T020357Z
URL:https://business.woodstockilchamber.com/events/details/groundhog-day-bingo-10445
END:VEVENT

END:VCALENDAR
