BEGIN:VCALENDAR
VERSION:2.0
PRODID:-//ChamberMaster//Event Calendar 2.0//EN
METHOD:PUBLISH
X-PUBLISHED-TTL:P3D
REFRESH-INTERVAL:P3D
CALSCALE:GREGORIAN
BEGIN:VEVENT
DTSTART:20200201T180000Z
DTEND:20200201T190000Z
X-MICROSOFT-CDO-ALLDAYEVENT:FALSE
SUMMARY:Groundhog Day Chili Cook-Off
DESCRIPTION:One of the more popular events is the annual chili cook off.\n\nThe entries cook all morning in the Woodstock North High\n\nSchool culinary classroom.  All of the meat is supplied by our \n\nsponsor Jewel Foods.  The public is invited to sample the\n\nvarious recipes from 12 noon at the Moose\, 2 blocks North of\n\nthe town Square.  The Moose was featured in the movie \n\n'Groundhog Day'.  The bachelor auction and dance scenes\n\nwere filmed here.
X-ALT-DESC;FMTTYPE=text/html:One of the more popular events is the annual chili cook off.<br />\nThe entries cook all morning in the Woodstock North High<br />\nSchool culinary classroom.&nbsp\; All of the meat is supplied by our&nbsp\;<br />\nsponsor Jewel Foods.&nbsp\; The public is invited to sample the<br />\nvarious recipes from 12 noon at the Moose\, 2 blocks North of<br />\nthe town Square.&nbsp\; The Moose was featured in the movie&nbsp\;<br />\n&#39\;Groundhog Day&#39\;.&nbsp\; The bachelor auction and dance scenes<br />\nwere filmed here.
LOCATION:Woodstock Moose Lodge 406 Clay St. Woodstock\, IL
UID:e.2851.10442
SEQUENCE:3
DTSTAMP:20260423T034726Z
URL:https://business.woodstockilchamber.com/events/details/groundhog-day-chili-cook-off-10442
END:VEVENT

END:VCALENDAR
