BEGIN:VCALENDAR
VERSION:2.0
PRODID:-//ChamberMaster//Event Calendar 2.0//EN
METHOD:PUBLISH
X-PUBLISHED-TTL:P3D
REFRESH-INTERVAL:P3D
CALSCALE:GREGORIAN
BEGIN:VEVENT
DTSTART:20200201T000000Z
DTEND:20200201T050000Z
X-MICROSOFT-CDO-ALLDAYEVENT:FALSE
SUMMARY:Groundhog Day Dinner/Dance - 2020
DESCRIPTION:This annual event is held right where the bachelor auction\n\nand dance scenes were filmed. Enjoy dinner and cash bar.\n\nAfterwards stick around for a band\, live entertainment\, dancing\n\nand raffle prizes. Money goes to help Moose charities.
X-ALT-DESC;FMTTYPE=text/html:<span style="font-size:16px\;"><span style="color:#222222\;"><span style="font-family:times new roman\,serif\;">This annual event is held right where the bachelor auction<br />\nand dance scenes were filmed. Enjoy dinner and cash bar.<br />\nAfterwards stick around for a band\, live entertainment\, dancing<br />\nand raffle prizes. Money goes to help Moose charities.</span></span><br />\n&nbsp\;</span>
LOCATION:Woodstock Moose Lodge 406 Clay St. Woodstock\, IL
UID:e.2851.10436
SEQUENCE:3
DTSTAMP:20260423T053005Z
URL:https://business.woodstockilchamber.com/events/details/groundhog-day-dinner-dance-2020-10436
END:VEVENT

END:VCALENDAR
