BEGIN:VCALENDAR
VERSION:2.0
PRODID:-//ChamberMaster//Event Calendar 2.0//EN
METHOD:PUBLISH
X-PUBLISHED-TTL:P3D
REFRESH-INTERVAL:P3D
CALSCALE:GREGORIAN
BEGIN:VEVENT
DTSTART:20200131T190000Z
DTEND:20200131T220000Z
X-MICROSOFT-CDO-ALLDAYEVENT:FALSE
SUMMARY:Groundhog Day Movie Display
DESCRIPTION:Don't miss this display of memorabilia from the filming of\n\nGroundhog Day in Woodstock in 1992. You'll see sketches\n\nof set designs\, pictures taken during filming and newspaper\n\n clippings. The display will be up all weekend.
X-ALT-DESC;FMTTYPE=text/html:<span style="font-size:16px\;"><span style="color:#222222\;"><span style="font-family:times new roman\,serif\;">Don&#39\;t miss this display of memorabilia&nbsp\;from the filming of<br />\nGroundhog Day in Woodstock in 1992. You&#39\;ll see sketches<br />\nof set designs\, pictures taken during filming and newspaper</span></span></span><br />\n<span style="color: rgb(34\, 34\, 34)\; font-family: &quot\;times new roman&quot\;\, serif\; font-size: 16px\;">&nbsp\;clippings. The display will be up all weekend.</span><br />\n<span style="font-size:16px\;">&nbsp\;</span>
LOCATION:Woodstock Library 414 West Judd St. Woodstock\, IL
UID:e.2851.10435
SEQUENCE:3
DTSTAMP:20260423T034929Z
URL:https://business.woodstockilchamber.com/events/details/groundhog-day-movie-display-01-31-2020-10435
END:VEVENT

END:VCALENDAR
