BEGIN:VCALENDAR
VERSION:2.0
PRODID:-//ChamberMaster//Event Calendar 2.0//EN
METHOD:PUBLISH
X-PUBLISHED-TTL:P3D
REFRESH-INTERVAL:P3D
CALSCALE:GREGORIAN
BEGIN:VEVENT
DTSTART:20200202T190000Z
DTEND:20200202T220000Z
X-MICROSOFT-CDO-ALLDAYEVENT:FALSE
SUMMARY:Groundhog Day Movie Display
DESCRIPTION:Don't miss this display of memorabilia from the filming of\n\nGroundhog Day in Woodstock in 1992.  You'll see sketches\n\nof set designs\, pictures during filming and newspaper\n\nclippings.  The display will be up all weekend.
X-ALT-DESC;FMTTYPE=text/html:Don&#39\;t miss this display of memorabilia from the filming of<br />\nGroundhog Day in Woodstock in 1992.&nbsp\; You&#39\;ll see sketches<br />\nof set designs\, pictures during filming and newspaper<br />\nclippings.&nbsp\; The display will be up all weekend.
LOCATION:Woodstock Library 414 West Judd St. Woodstock\, IL
UID:e.2851.10464
SEQUENCE:3
DTSTAMP:20260423T020550Z
URL:https://business.woodstockilchamber.com/events/details/groundhog-day-movie-display-10464
END:VEVENT

END:VCALENDAR
