BEGIN:VCALENDAR
VERSION:2.0
PRODID:-//ChamberMaster//Event Calendar 2.0//EN
METHOD:PUBLISH
X-PUBLISHED-TTL:P3D
REFRESH-INTERVAL:P3D
CALSCALE:GREGORIAN
BEGIN:VEVENT
DTSTART:20200202T130000Z
DTEND:20200202T140000Z
X-MICROSOFT-CDO-ALLDAYEVENT:FALSE
SUMMARY:Groundhog Day Prognostication
DESCRIPTION:Will he see his shadow\, or won't he? Will we have 6 more\n\nweeks of winter or is spring right around the corner?\n\nGather in the park in the town square for Woodstock\n\nWillie's Prognostication. Come for all the festivities with\n\nour own Groundhog Day polka band. It's all free but don't\n\nforget your booties 'cuz it's cold out there.
X-ALT-DESC;FMTTYPE=text/html:<span style="color: rgb(51\, 51\, 51)\; font-family: sans-serif\, Arial\, Verdana\, &quot\;Trebuchet MS&quot\;\; font-size: 16px\;"><span style="color: rgb(34\, 34\, 34)\;"><span style="font-family: &quot\;times new roman&quot\;\, serif\;">Will he see his shadow\, or won&#39\;t he? Will we have 6 more<br />\nweeks of winter or is spring&nbsp\;right around the corner?<br />\nGather in the park in the town square for Woodstock<br />\nWillie&#39\;s Prognostication. Come for all the festivities with<br />\nour own Groundhog Day polka band. It&#39\;s all free but don&#39\;t<br />\nforget your booties &#39\;cuz it&#39\;s cold out there.</span></span></span>
LOCATION:Woodstock Square
UID:e.2851.10450
SEQUENCE:3
DTSTAMP:20260423T020347Z
URL:https://business.woodstockilchamber.com/events/details/groundhog-day-prognostication-10450
END:VEVENT

END:VCALENDAR
