BEGIN:VCALENDAR
VERSION:2.0
PRODID:-//ChamberMaster//Event Calendar 2.0//EN
METHOD:PUBLISH
X-PUBLISHED-TTL:P3D
REFRESH-INTERVAL:P3D
CALSCALE:GREGORIAN
BEGIN:VEVENT
DTSTART:20210202T130000Z
DTEND:20210202T133000Z
X-MICROSOFT-CDO-ALLDAYEVENT:FALSE
SUMMARY:Groundhog Day Prognostication
DESCRIPTION:Will he see his shadow or won't he?  Will we have 6\n\nmore weeks of winter or is spring right around the corner?\n\nGather in the park in the town square for Woodstock Willie's\n\nPrognostication.  Come for all the festivities with our own \n\nGroundhog Day polka band.  It's all free\, but don't forget your\n\nbooties 'cuz it's cold out there.  Please wear a mask and keep \n\nsocial distance.
X-ALT-DESC;FMTTYPE=text/html:<font color="#222222" face="times new roman\, serif"><span style="font-size: 16px\;">Will he see his shadow or won&#39\;t he?&nbsp\; Will we have 6<br />\nmore weeks of winter or is spring right around the corner?<br />\nGather in the park in the town square for Woodstock Willie&#39\;s<br />\nPrognostication.&nbsp\; Come for all the festivities with our own&nbsp\;<br />\nGroundhog Day polka band.&nbsp\; It&#39\;s all free\, but don&#39\;t forget your<br />\nbooties &#39\;cuz it&#39\;s cold out there.&nbsp\; Please wear a mask and keep&nbsp\;<br />\nsocial distance.</span></font>
LOCATION:Woodstock Square
UID:e.2851.12133
SEQUENCE:3
DTSTAMP:20260420T074259Z
URL:https://business.woodstockilchamber.com/events/details/groundhog-day-prognostication-12133
END:VEVENT

END:VCALENDAR
