BEGIN:VCALENDAR
VERSION:2.0
PRODID:-//ChamberMaster//Event Calendar 2.0//EN
METHOD:PUBLISH
X-PUBLISHED-TTL:P3D
REFRESH-INTERVAL:P3D
CALSCALE:GREGORIAN
BEGIN:VEVENT
DTSTART:20200202T000000Z
DTEND:20200202T040000Z
X-MICROSOFT-CDO-ALLDAYEVENT:FALSE
SUMMARY:Groundhog Day Pub Crawl
DESCRIPTION:Join Woodstock Willie for a walk around town and a\n\nlittle fun with locals and visitors to Groundhog Day.\n\n\n\nThe annual Woodstock Groundhog Day Pub Crawl\n\nis back again.  The fun starts by the fireplace on the\n\npatio in front of the Old Courthouse on the town square.\n\nTickets are $20  The first 100 will get a commemorative\n\nGroundhog Day scarf to keep you warm on your walk\n\naround town.  Participants will also get 2 drink tokens to\n\nuse at participating establishments.\n\n\n\nThe bars in the Pub Crawl are all within blocks of the\n\nSquare so you won't need your car.  Bundle up for a \n\nstroll around town.  After getting your ticket you can go in\n\nany direction.  Many of the places have drink specials and\n\nsome serve food.\n\n\n\nParticipating locations include:\n\n\n\nPublic House of Woodstock\n\nDC Cobbs\n\nBBQ King Smokehouse\n\nNapoli's Pizza\n\nOrtmann's Red Iron Tavern\n\nLiquid Blues\n\nMain Street Pourhouse\n\nWinestock\n\nBenton Street Tap\n\nThe Cabin\n\n\n\nDon't stay out too late.  The Prognostication Sunday \n\nmorning is at 7am in the park in the Square.
X-ALT-DESC;FMTTYPE=text/html:<p>Join Woodstock Willie for a walk around town and a<br />\nlittle fun with locals and visitors to Groundhog Day.<br />\n<br />\nThe annual Woodstock Groundhog Day Pub Crawl<br />\nis back again.&nbsp\; The fun starts by the fireplace on the<br />\npatio in front of the Old Courthouse on the town square.<br />\nTickets are $20&nbsp\; The first 100 will get a commemorative<br />\nGroundhog Day scarf to keep you warm on your walk<br />\naround town.&nbsp\; Participants will also get 2 drink tokens to<br />\nuse at participating establishments.<br />\n<br />\nThe bars in the Pub Crawl are all within blocks of the<br />\nSquare so you won&#39\;t need your car.&nbsp\; Bundle up for a&nbsp\;<br />\nstroll around town.&nbsp\; After getting your ticket you can go in<br />\nany direction.&nbsp\; Many of the places have drink specials and<br />\nsome serve food.<br />\n<br />\nParticipating locations include:<br />\n<br />\nPublic House of Woodstock<br />\nDC Cobbs<br />\nBBQ King Smokehouse<br />\nNapoli&#39\;s Pizza<br />\nOrtmann&#39\;s Red Iron Tavern<br />\nLiquid Blues<br />\nMain Street Pourhouse<br />\nWinestock<br />\nBenton Street Tap<br />\nThe Cabin<br />\n<br />\nDon&#39\;t stay out too late.&nbsp\; The Prognostication Sunday&nbsp\;<br />\nmorning is at 7am in the park in the Square.</p>\n
LOCATION:Woodstock Public House Patio 101 N. Johnson St. Woodstock\, IL
UID:e.2851.10446
SEQUENCE:3
DTSTAMP:20260423T034437Z
URL:https://business.woodstockilchamber.com/events/details/groundhog-day-pub-crawl-10446
END:VEVENT

END:VCALENDAR
