BEGIN:VCALENDAR
VERSION:2.0
PRODID:-//ChamberMaster//Event Calendar 2.0//EN
METHOD:PUBLISH
X-PUBLISHED-TTL:P3D
REFRESH-INTERVAL:P3D
CALSCALE:GREGORIAN
BEGIN:VEVENT
DTSTART:20200130T230000Z
DTEND:20200131T000000Z
X-MICROSOFT-CDO-ALLDAYEVENT:FALSE
SUMMARY:Groundhog Day Story Time
DESCRIPTION:Before meeting Woodstock Willie at the \n\nWelcoming of the Groundhog\, bring the kids\n\nto Stage Left Cafe for Groundhog Day stories\n\npresented by the Woodstock Public Library.
X-ALT-DESC;FMTTYPE=text/html:Before meeting Woodstock Willie at the&nbsp\;<br />\nWelcoming of the Groundhog\, bring the kids<br />\nto Stage Left Cafe for Groundhog Day stories<br />\npresented by the Woodstock Public Library.
LOCATION:Stage Left Cafe 125 W. Van Buren St. Woodstock\, IL
UID:e.2851.10428
SEQUENCE:3
DTSTAMP:20260423T034753Z
URL:https://business.woodstockilchamber.com/events/details/groundhog-day-story-time-01-30-2020-10428
END:VEVENT

END:VCALENDAR
