BEGIN:VCALENDAR
VERSION:2.0
PRODID:-//ChamberMaster//Event Calendar 2.0//EN
METHOD:PUBLISH
X-PUBLISHED-TTL:P3D
REFRESH-INTERVAL:P3D
CALSCALE:GREGORIAN
BEGIN:VEVENT
DTSTART:20200202T160000Z
DTEND:20200202T170000Z
X-MICROSOFT-CDO-ALLDAYEVENT:FALSE
SUMMARY:"Groundhog Day" the Movie
DESCRIPTION:The Groundhog Day festivities would not be complete without\n\nseeing the movie right here in town where it was filmed.  Come\n\nsee this classic movie on the big screen.
X-ALT-DESC;FMTTYPE=text/html:The Groundhog Day festivities would not be complete without<br />\nseeing the movie right here in town where it was filmed.&nbsp\; Come<br />\nsee this classic movie on the big screen.
LOCATION:Woodstock Theatre 209 Main St. Woodstock\, IL
UID:e.2851.10459
SEQUENCE:3
DTSTAMP:20260423T020550Z
URL:https://business.woodstockilchamber.com/events/details/groundhog-day-the-movie-10459
END:VEVENT

END:VCALENDAR
