BEGIN:VCALENDAR
VERSION:2.0
PRODID:-//ChamberMaster//Event Calendar 2.0//EN
METHOD:PUBLISH
X-PUBLISHED-TTL:P3D
REFRESH-INTERVAL:P3D
CALSCALE:GREGORIAN
BEGIN:VEVENT
DTSTART:20210130T003000Z
DTEND:20210130T013000Z
X-MICROSOFT-CDO-ALLDAYEVENT:FALSE
SUMMARY:Groundhog Day Trivia
DESCRIPTION:How many times have you seen the movie Groundhog Day?\n\nCome test your knowledge and your memory for prizes and fun.
X-ALT-DESC;FMTTYPE=text/html:<span style="color: rgb(51\, 51\, 51)\; font-family: sans-serif\, Arial\, Verdana\, &quot\;Trebuchet MS&quot\;\; font-size: 13px\; background-color: rgb(255\, 255\, 255)\;">How many times have you seen the movie Groundhog Day?</span><br style="color: rgb(51\, 51\, 51)\; font-family: sans-serif\, Arial\, Verdana\, &quot\;Trebuchet MS&quot\;\; font-size: 13px\;" />\n<span style="color: rgb(51\, 51\, 51)\; font-family: sans-serif\, Arial\, Verdana\, &quot\;Trebuchet MS&quot\;\; font-size: 13px\; background-color: rgb(255\, 255\, 255)\;">Come test your knowledge and your memory for prizes and fun.</span>
LOCATION:Woodstock Opera House 121 Van Buren St. Woodstock
UID:e.2851.12131
SEQUENCE:3
DTSTAMP:20260420T074233Z
URL:https://business.woodstockilchamber.com/events/details/groundhog-day-trivia-12131
END:VEVENT

END:VCALENDAR
