BEGIN:VCALENDAR
VERSION:2.0
PRODID:-//ChamberMaster//Event Calendar 2.0//EN
METHOD:PUBLISH
X-PUBLISHED-TTL:P3D
REFRESH-INTERVAL:P3D
CALSCALE:GREGORIAN
BEGIN:VEVENT
DTSTART:20200202T140000Z
DTEND:20200202T170000Z
X-MICROSOFT-CDO-ALLDAYEVENT:FALSE
SUMMARY:Groundhog Wood Carving
DESCRIPTION:Mike Bihlmaier is back again to create a unique \n\ngroundhog.  He will be in the park in the Town \n\nSquare starting after the prognostication.  Stop\n\nby and see what he can do with a log and a chainsaw.\n\nThe groundhog will be auctioned off at the D200 Education\n\nFoundation benefit\, Saturday February 9th.  Sponsored by OWC\n\nand Mike Bihlmaier.
X-ALT-DESC;FMTTYPE=text/html:Mike Bihlmaier is back again to create a unique&nbsp\;<br />\ngroundhog.&nbsp\; He will be in the park in the Town&nbsp\;<br />\nSquare starting after the prognostication.&nbsp\; Stop<br />\nby and see what he can do with a log and a chainsaw.<br />\nThe groundhog will be auctioned off at the D200 Education<br />\nFoundation benefit\, Saturday February 9th.&nbsp\; Sponsored by OWC<br />\nand Mike Bihlmaier.
LOCATION:Woodstock Square
UID:e.2851.10458
SEQUENCE:3
DTSTAMP:20260423T021306Z
URL:https://business.woodstockilchamber.com/events/details/groundhog-wood-carving-10458
END:VEVENT

END:VCALENDAR
