BEGIN:VCALENDAR
VERSION:2.0
PRODID:-//ChamberMaster//Event Calendar 2.0//EN
METHOD:PUBLISH
X-PUBLISHED-TTL:P3D
REFRESH-INTERVAL:P3D
CALSCALE:GREGORIAN
BEGIN:VEVENT
DTSTART:20191027T000000Z
DTEND:20191027T050000Z
X-MICROSOFT-CDO-ALLDAYEVENT:FALSE
SUMMARY:Halloween Costume Pub Crawl
DESCRIPTION:Join us for a Spooktacular Halloween Pub Crawl in Woodstock Illinois on Saturday October 26th! Start at your favorite Woodstock watering hole to begin a hauntingly fun night of pub crawling around Woodstock. Check in by showing your paper or digital ticket to receive your wristband and a Halloween treat. 10 hot spots on and off the Woodstock Square will provide witches and goblins plenty of entertainment\, brews and concoctions to get your fill of fun. No need to bring your broom\, just crawl on one of the coach busses looping through Woodstock from 7 PM to Midnight (your wristband is your bus ticket). Psychic extraordinaire\, Joe Diamond\, will be lurking around bus stops on the Square telling fortunes and reading minds while you wait for your coach. Grab all your zombie friends and join us to crawl through all the best bars and pubs in Woodstock!\n\n \nJust $15 per person to join the fun! Costumes highly encouraged to participate in the Costume Costume - $100 prize will be awarded!\n\n\nParticipating Bars & Pubs:\n\nBBQ King Smokehouse\n\nBenton Street Tap\n\nDC Cobb's\n\nLucky Bernie's\n\nNiko's Red Mill Tavern\n\nOffsides Sports Bar and Grill\n\nPublic House of Woodstock\n\nShadowView Brewing\n\nThe Cabin \n\nThe MainStreet PourHouse
X-ALT-DESC;FMTTYPE=text/html:<span style="color: rgb(29\, 33\, 41)\; font-family: Helvetica\, Arial\, sans-serif\; font-size: 14px\; white-space: pre-wrap\; background-color: rgb(255\, 255\, 255)\;">Join us for a Spooktacular Halloween Pub Crawl in Woodstock Illinois on Saturday October 26th! Start at your favorite Woodstock watering hole to begin a hauntingly fun night of pub crawling around Woodstock. Check in by showing your paper or digital ticket to receive your wristband and a Halloween treat. 10 hot spots on and off the Woodstock Square will provide witches and goblins plenty of entertainment\, brews and concoctions to get your fill of fun. No need to bring your broom\, just crawl on one of the coach busses looping through Woodstock from 7 PM to Midnight (your wristband is your bus ticket). Psychic extraordinaire\, Joe Diamond\, will be lurking around bus stops on the Square telling fortunes and reading minds while you wait for your coach. Grab all your zombie friends and join us to crawl through all the best bars and pubs in Woodstock!</span><br style="color: rgb(29\, 33\, 41)\; font-family: Helvetica\, Arial\, sans-serif\; font-size: 14px\; white-space: pre-wrap\; background-color: rgb(255\, 255\, 255)\;" />\n&nbsp\;\n<h2 class="pre short-description" style="box-sizing: inherit\; margin-top: 0px\; margin-bottom: 0px\; font-family: Montserrat\, sans-serif\; font-weight: 400\; line-height: 1.5\; color: rgb(41\, 43\, 44)\; font-size: 1rem\; white-space: pre-wrap\;">Just $15 per person to join the fun! Costumes highly encouraged to participate in the Costume Costume - $100 prize will be awarded!</h2>\n<br style="color: rgb(29\, 33\, 41)\; font-family: Helvetica\, Arial\, sans-serif\; font-size: 14px\; white-space: pre-wrap\; background-color: rgb(255\, 255\, 255)\;" />\n<span style="color: rgb(29\, 33\, 41)\; font-family: Helvetica\, Arial\, sans-serif\; font-size: 14px\; white-space: pre-wrap\; background-color: rgb(255\, 255\, 255)\;">Participating Bars &amp\; Pubs:</span><br style="color: rgb(29\, 33\, 41)\; font-family: Helvetica\, Arial\, sans-serif\; font-size: 14px\; white-space: pre-wrap\; background-color: rgb(255\, 255\, 255)\;" />\n<span style="color: rgb(29\, 33\, 41)\; font-family: Helvetica\, Arial\, sans-serif\; font-size: 14px\; white-space: pre-wrap\; background-color: rgb(255\, 255\, 255)\;">BBQ King Smokehouse</span><br style="color: rgb(29\, 33\, 41)\; font-family: Helvetica\, Arial\, sans-serif\; font-size: 14px\; white-space: pre-wrap\; background-color: rgb(255\, 255\, 255)\;" />\n<span style="color: rgb(29\, 33\, 41)\; font-family: Helvetica\, Arial\, sans-serif\; font-size: 14px\; white-space: pre-wrap\; background-color: rgb(255\, 255\, 255)\;">Benton Street Tap</span><br style="color: rgb(29\, 33\, 41)\; font-family: Helvetica\, Arial\, sans-serif\; font-size: 14px\; white-space: pre-wrap\; background-color: rgb(255\, 255\, 255)\;" />\n<span style="color: rgb(29\, 33\, 41)\; font-family: Helvetica\, Arial\, sans-serif\; font-size: 14px\; white-space: pre-wrap\; background-color: rgb(255\, 255\, 255)\;">DC Cobb&rsquo\;s</span><br style="color: rgb(29\, 33\, 41)\; font-family: Helvetica\, Arial\, sans-serif\; font-size: 14px\; white-space: pre-wrap\; background-color: rgb(255\, 255\, 255)\;" />\n<span style="color: rgb(29\, 33\, 41)\; font-family: Helvetica\, Arial\, sans-serif\; font-size: 14px\; white-space: pre-wrap\; background-color: rgb(255\, 255\, 255)\;">Lucky Bernie&#39\;s</span><br style="color: rgb(29\, 33\, 41)\; font-family: Helvetica\, Arial\, sans-serif\; font-size: 14px\; white-space: pre-wrap\; background-color: rgb(255\, 255\, 255)\;" />\n<span style="color: rgb(29\, 33\, 41)\; font-family: Helvetica\, Arial\, sans-serif\; font-size: 14px\; white-space: pre-wrap\; background-color: rgb(255\, 255\, 255)\;">Niko&rsquo\;s Red Mill Tavern</span><br style="color: rgb(29\, 33\, 41)\; font-family: Helvetica\, Arial\, sans-serif\; font-size: 14px\; white-space: pre-wrap\; background-color: rgb(255\, 255\, 255)\;" />\n<span style="color: rgb(29\, 33\, 41)\; font-family: Helvetica\, Arial\, sans-serif\; font-size: 14px\; white-space: pre-wrap\; background-color: rgb(255\, 255\, 255)\;">Offsides Sports Bar and Grill</span><br style="color: rgb(29\, 33\, 41)\; font-family: Helvetica\, Arial\, sans-serif\; font-size: 14px\; white-space: pre-wrap\; background-color: rgb(255\, 255\, 255)\;" />\n<span style="color: rgb(29\, 33\, 41)\; font-family: Helvetica\, Arial\, sans-serif\; font-size: 14px\; white-space: pre-wrap\; background-color: rgb(255\, 255\, 255)\;">Public House of Woodstock</span><br style="color: rgb(29\, 33\, 41)\; font-family: Helvetica\, Arial\, sans-serif\; font-size: 14px\; white-space: pre-wrap\; background-color: rgb(255\, 255\, 255)\;" />\n<span style="color: rgb(29\, 33\, 41)\; font-family: Helvetica\, Arial\, sans-serif\; font-size: 14px\; white-space: pre-wrap\; background-color: rgb(255\, 255\, 255)\;">ShadowView Brewing</span><br style="color: rgb(29\, 33\, 41)\; font-family: Helvetica\, Arial\, sans-serif\; font-size: 14px\; white-space: pre-wrap\; background-color: rgb(255\, 255\, 255)\;" />\n<span style="color: rgb(29\, 33\, 41)\; font-family: Helvetica\, Arial\, sans-serif\; font-size: 14px\; white-space: pre-wrap\; background-color: rgb(255\, 255\, 255)\;">The Cabin </span><br style="color: rgb(29\, 33\, 41)\; font-family: Helvetica\, Arial\, sans-serif\; font-size: 14px\; white-space: pre-wrap\; background-color: rgb(255\, 255\, 255)\;" />\n<span style="color: rgb(29\, 33\, 41)\; font-family: Helvetica\, Arial\, sans-serif\; font-size: 14px\; white-space: pre-wrap\; background-color: rgb(255\, 255\, 255)\;">The MainStreet PourHouse</span>
LOCATION:
UID:e.2851.10301
SEQUENCE:3
DTSTAMP:20260423T102417Z
URL:https://business.woodstockilchamber.com/events/details/halloween-costume-pub-crawl-10301
END:VEVENT

END:VCALENDAR
