BEGIN:VCALENDAR
VERSION:2.0
PRODID:-//ChamberMaster//Event Calendar 2.0//EN
METHOD:PUBLISH
X-PUBLISHED-TTL:P3D
REFRESH-INTERVAL:P3D
CALSCALE:GREGORIAN
BEGIN:VEVENT
DTSTART:20190914T150000Z
DTEND:20190914T220000Z
X-MICROSOFT-CDO-ALLDAYEVENT:FALSE
SUMMARY:Harvest Fest
DESCRIPTION:2019 Harvest Craft Show Vendor Applications are available at the Woodstock Area Chamber of Commerce & Industry! Looking for hand made crafters for this year! Saturday September 14th on the Historic Woodstock Square. 10 AM to 5 PM. Community Groups are also welcome to participate! Contact the Chamber for more details. (815) 338-2436.
X-ALT-DESC;FMTTYPE=text/html:<span style="color: rgb(28\, 30\, 33)\; font-family: Helvetica\, Arial\, sans-serif\; font-size: 14px\; background-color: rgb(255\, 255\, 255)\;">2019 Harvest Craft Show Vendor Applications are available at the Woodstock Area Chamber of Commerce &amp\; Industry! Looking for hand made crafters for this year! Saturday September 14th on the Historic Woodstock Square. 10 AM to 5 PM. Community Groups are also welcome to participate! Contact the Chamber for more details. (815) 338-2436.</span>
LOCATION:Woodstock Historic Square
UID:e.2851.9839
SEQUENCE:3
DTSTAMP:20260423T111250Z
URL:https://business.woodstockilchamber.com/events/details/harvest-fest-9839
END:VEVENT

END:VCALENDAR
