BEGIN:VCALENDAR
VERSION:2.0
PRODID:-//ChamberMaster//Event Calendar 2.0//EN
METHOD:PUBLISH
X-PUBLISHED-TTL:P3D
REFRESH-INTERVAL:P3D
CALSCALE:GREGORIAN
BEGIN:VEVENT
DTSTART:20191019T000000Z
DTEND:20191020T033000Z
X-MICROSOFT-CDO-ALLDAYEVENT:FALSE
SUMMARY:Haunted Hay Ride Fundraiser - Wonder Lake Ski Team Show
DESCRIPTION:Have you dared? Do you dare? Take the ride through the thicket of Deadwood Forest\, see what awaits you. It's a ride you won't forget. Bring a friend or more\, there's safety in numbers. Wagons run from 7:00pm-10:30pm. Tickets $10. Concessions available. Free parking.
X-ALT-DESC;FMTTYPE=text/html:<span style="color: rgb(29\, 33\, 41)\; font-family: Helvetica\, Arial\, sans-serif\; font-size: 14px\; white-space: pre-wrap\; background-color: rgb(255\, 255\, 255)\;">Have you dared? Do you dare? Take the ride through the thicket of Deadwood Forest\, see what awaits you. It&rsquo\;s a ride you won&rsquo\;t forget. Bring a friend or more\, there&rsquo\;s safety in numbers. Wagons run from 7:00pm-10:30pm. Tickets $10. Concessions available. Free parking. </span>
LOCATION:Petersen Park McHenry\, IL
UID:e.2851.10392
SEQUENCE:3
DTSTAMP:20260423T103207Z
URL:https://business.woodstockilchamber.com/events/details/haunted-hay-ride-fundraiser-wonder-lake-ski-team-show-10392
END:VEVENT

END:VCALENDAR
