BEGIN:VCALENDAR
VERSION:2.0
PRODID:-//ChamberMaster//Event Calendar 2.0//EN
METHOD:PUBLISH
X-PUBLISHED-TTL:P3D
REFRESH-INTERVAL:P3D
CALSCALE:GREGORIAN
BEGIN:VEVENT
DTSTART:20191027T040000Z
DTEND:20191027T050000Z
X-MICROSOFT-CDO-ALLDAYEVENT:FALSE
SUMMARY:Haunted Woodstock Ouija Session
DESCRIPTION:Sounds Spooktacular right? The night will start on the steps of the Old Courthouse on the Historic Woodstock Square at 11 PM. Joe Diamond will guide you through a portion of the Old Courthouse to learn it's history. This exclusive Ouija Session experience lies within the walls of this historic building. Only 16 tickets are available for this year's experience so don't let this exclusive opportunity pass you by!\n\n\n\nJoe is sure to conjur up an interesting experience for all who attend!
X-ALT-DESC;FMTTYPE=text/html:<span style="color: rgb(29\, 33\, 41)\; font-family: Helvetica\, Arial\, sans-serif\; font-size: 14px\; white-space: pre-wrap\; background-color: rgb(255\, 255\, 255)\;">Sounds Spooktacular right? The night will start on the steps of the Old Courthouse on the Historic Woodstock Square at 11 PM. Joe Diamond will guide you through a portion of the Old Courthouse to learn it&#39\;s history. This exclusive Ouija Session experience lies within the walls of this historic building. Only 16 tickets are available for this year&#39\;s experience so don&#39\;t let this exclusive opportunity pass you by!</span><br style="color: rgb(29\, 33\, 41)\; font-family: Helvetica\, Arial\, sans-serif\; font-size: 14px\; white-space: pre-wrap\; background-color: rgb(255\, 255\, 255)\;" />\n<br style="color: rgb(29\, 33\, 41)\; font-family: Helvetica\, Arial\, sans-serif\; font-size: 14px\; white-space: pre-wrap\; background-color: rgb(255\, 255\, 255)\;" />\n<span style="color: rgb(29\, 33\, 41)\; font-family: Helvetica\, Arial\, sans-serif\; font-size: 14px\; white-space: pre-wrap\; background-color: rgb(255\, 255\, 255)\;">Joe is sure to conjur up an interesting experience for all who attend!</span>
LOCATION:Old McHenry County Courthouse 101 N. Johnson St. Woodstock\, IL
UID:e.2851.10398
SEQUENCE:3
DTSTAMP:20260423T085837Z
URL:https://business.woodstockilchamber.com/events/details/haunted-woodstock-ouija-session-10398
END:VEVENT

END:VCALENDAR
