BEGIN:VCALENDAR
VERSION:2.0
PRODID:-//ChamberMaster//Event Calendar 2.0//EN
METHOD:PUBLISH
X-PUBLISHED-TTL:P3D
REFRESH-INTERVAL:P3D
CALSCALE:GREGORIAN
BEGIN:VEVENT
DTSTART:20200820T170000Z
DTEND:20200820T180000Z
X-MICROSOFT-CDO-ALLDAYEVENT:FALSE
SUMMARY:Hispanic Connections Meeting - ZOOM
DESCRIPTION:Join Zoom Meeting\n\nhttps://us02web.zoom.us/j/82131477324?pwd=eVRWWUcvWVhQN0tjK1lrWTRmRnVzQT09\n\n \n\nMeeting ID: 821 3147 7324\n\nPasscode: 656444\n\nOne tap mobile\n\n+13126266799\,\,82131477324#\,\,\,\,\,\,0#\,\,656444# US (Chicago)\n\n+13017158592\,\,82131477324#\,\,\,\,\,\,0#\,\,656444# US (Germantown)\n\n \n\nDial by your location\n\n       +1 312 626 6799 US (Chicago)\n\n       +1 301 715 8592 US (Germantown)\n\n       +1 929 436 2866 US (New York)\n\n       +1 253 215 8782 US (Tacoma)\n\n       +1 346 248 7799 US (Houston)\n\n       +1 669 900 6833 US (San Jose)\n\nMeeting ID: 821 3147 7324\n\nPasscode: 656444\n\nFind your local number: https://us02web.zoom.us/u/kcy5nIpDAj
X-ALT-DESC;FMTTYPE=text/html:<br />\n<br />\nJoin Zoom Meeting<br />\n<a href="https://us02web.zoom.us/j/82131477324?pwd=eVRWWUcvWVhQN0tjK1lrWTRmRnVzQT09">https://us02web.zoom.us/j/82131477324?pwd=eVRWWUcvWVhQN0tjK1lrWTRmRnVzQT09</a><br />\n&nbsp\;<br />\nMeeting ID: 821 3147 7324<br />\nPasscode: 656444<br />\nOne tap mobile<br />\n+13126266799\,\,82131477324#\,\,\,\,\,\,0#\,\,656444# US (Chicago)<br />\n+13017158592\,\,82131477324#\,\,\,\,\,\,0#\,\,656444# US (Germantown)<br />\n&nbsp\;<br />\nDial by your location<br />\n&nbsp\;&nbsp\;&nbsp\;&nbsp\;&nbsp\;&nbsp\; +1 312 626 6799 US (Chicago)<br />\n&nbsp\;&nbsp\;&nbsp\;&nbsp\;&nbsp\;&nbsp\; +1 301 715 8592 US (Germantown)<br />\n&nbsp\;&nbsp\;&nbsp\;&nbsp\;&nbsp\;&nbsp\; +1 929 436 2866 US (New York)<br />\n&nbsp\;&nbsp\;&nbsp\;&nbsp\;&nbsp\;&nbsp\; +1 253 215 8782 US (Tacoma)<br />\n&nbsp\;&nbsp\;&nbsp\;&nbsp\;&nbsp\;&nbsp\; +1 346 248 7799 US (Houston)<br />\n&nbsp\;&nbsp\;&nbsp\;&nbsp\;&nbsp\;&nbsp\; +1 669 900 6833 US (San Jose)<br />\nMeeting ID: 821 3147 7324<br />\nPasscode: 656444<br />\nFind your local number: <a href="https://us02web.zoom.us/u/kcy5nIpDAj">https://us02web.zoom.us/u/kcy5nIpDAj</a><br />\n&nbsp\;<br />\n&nbsp\;
LOCATION:Woodstock Chamber of Commerce 127 E. Calhoun St. Woodstock\, IL 60098
UID:e.2851.9892
SEQUENCE:3
DTSTAMP:20260422T154927Z
URL:https://business.woodstockilchamber.com/events/details/hispanic-connections-meeting-zoom-9892
END:VEVENT

END:VCALENDAR
