BEGIN:VCALENDAR
VERSION:2.0
PRODID:-//ChamberMaster//Event Calendar 2.0//EN
METHOD:PUBLISH
X-PUBLISHED-TTL:P3D
REFRESH-INTERVAL:P3D
CALSCALE:GREGORIAN
BEGIN:VEVENT
DTSTART:20191217T230000Z
DTEND:20191218T010000Z
X-MICROSOFT-CDO-ALLDAYEVENT:FALSE
SUMMARY:Holiday Mixer at Naturally Gifted
DESCRIPTION:Refresh\, Shop\, and Network! \n\n\n\nJoin us at our Holiday Mixer at our storefront\, Naturally Gifted\, a division of Clearbrook. Naturally Gifted is a program where our goal is to offer employment for our individuals and those we serve. Our individuals help make our products\, put the labels on\, sell the products\, and manage the store. We offer products such as candles\, shower vapor discs\, candle melts\, lip balm\, sugar scrubs\, and body butter. We are located at 6500 Northwest Highway Unit 2B and you are invited to come join us from 5-7 p.m. on December 17th to shop and get to know us! Refreshments will be served. Hope to see you there!
X-ALT-DESC;FMTTYPE=text/html:Refresh\, Shop\, and Network!&nbsp\;<br />\n<br />\nJoin us at our Holiday Mixer at our storefront\, Naturally Gifted\, a division of Clearbrook. Naturally Gifted is a program where our goal is to offer employment for our individuals and those we serve. Our individuals help make our products\, put the labels on\, sell the products\, and manage the store. We offer products such as candles\, shower vapor discs\, candle melts\, lip balm\, sugar scrubs\, and body butter. We are located at 6500 Northwest Highway Unit 2B and you are invited to come join us from 5-7 p.m. on December 17th to shop and get to know us! Refreshments will be served. Hope to see you there!
LOCATION:6500 Northwest Highway\, Unit 2B\, Crystal Lake\, IL 60014
UID:e.2851.10482
SEQUENCE:3
DTSTAMP:20260423T054111Z
URL:https://business.woodstockilchamber.com/events/details/holiday-mixer-at-naturally-gifted-10482
END:VEVENT

END:VCALENDAR
