BEGIN:VCALENDAR
VERSION:2.0
PRODID:-//ChamberMaster//Event Calendar 2.0//EN
METHOD:PUBLISH
X-PUBLISHED-TTL:P3D
REFRESH-INTERVAL:P3D
CALSCALE:GREGORIAN
BEGIN:VEVENT
DTSTART:20191001T150000Z
DTEND:20191001T160000Z
X-MICROSOFT-CDO-ALLDAYEVENT:FALSE
SUMMARY:HyperStitch - Ribbon Cutting & Open House
DESCRIPTION:Ribbon Cutting & Open House\n\nCoffee & Pastries Provided
X-ALT-DESC;FMTTYPE=text/html:Ribbon Cutting &amp\; Open House<br />\nCoffee &amp\; Pastries Provided<br />\n&nbsp\;
LOCATION:219 E. Grant Hwy Marengo\, IL
UID:e.2851.10236
SEQUENCE:3
DTSTAMP:20260423T102247Z
URL:https://business.woodstockilchamber.com/events/details/hyperstitch-ribbon-cutting-open-house-10236
END:VEVENT

END:VCALENDAR
