BEGIN:VCALENDAR
VERSION:2.0
PRODID:-//ChamberMaster//Event Calendar 2.0//EN
METHOD:PUBLISH
X-PUBLISHED-TTL:P3D
REFRESH-INTERVAL:P3D
CALSCALE:GREGORIAN
BEGIN:VEVENT
DTSTART:20260519T220000Z
DTEND:20260520T000000Z
X-MICROSOFT-CDO-ALLDAYEVENT:FALSE
SUMMARY:Independence Health & Therapy Multi-Chamber Mixer
DESCRIPTION:Multi-Chamber Mixer at Independence Health & Therapy\n\nJoin us for an exciting Multi-Chamber Mixer hosted by Independence Health & Therapy!\n\nWe're bringing together members from the Woodstock\, Crystal Lake\, Huntley\, McHenry\, and Chain O'Lakes Chambers for an evening of networking\, connection\, and collaboration across our communities.\n\n  May 19\n\n  5:00 7:00 PM\n\n  Independence Health & Therapy\n\n2028 N Seminary Ave\, Woodstock\n\nExpand your reach\, meet new professionals from across McHenry County\, and strengthen regional relationships in a relaxed\, welcoming environment.\n\nLight refreshments will be served.\n\nWe look forward to seeing you there!
X-ALT-DESC;FMTTYPE=text/html:<p data-end="227" data-start="171"><strong data-end="227" data-start="171">Multi-Chamber Mixer at Independence Health &amp\; Therapy</strong></p>\n\n<p data-end="313" data-start="229">Join us for an exciting Multi-Chamber Mixer hosted by Independence Health &amp\; Therapy!</p>\n\n<p data-end="509" data-start="315">We&rsquo\;re bringing together members from the Woodstock\, Crystal Lake\, Huntley\, McHenry\, and Chain O&rsquo\;Lakes Chambers for an evening of networking\, connection\, and collaboration across our communities.</p>\n\n<p data-end="617" data-start="511">&#128197\; <strong data-end="524" data-start="514">May 19</strong><br data-end="527" data-start="524" />\n&#9200\; <strong data-end="545" data-start="529">5:00&ndash\;7:00 PM</strong><br data-end="548" data-start="545" />\n&#128205\; <strong data-end="584" data-start="551">Independence Health &amp\; Therapy</strong><br data-end="587" data-start="584" />\n2028 N Seminary Ave\, Woodstock</p>\n\n<p data-end="763" data-start="619">Expand your reach\, meet new professionals from across McHenry County\, and strengthen regional relationships in a relaxed\, welcoming environment.</p>\n\n<p data-end="799" data-start="765">Light refreshments will be served.</p>\n\n<p data-end="837" data-start="801">We look forward to seeing you there!</p>\n
LOCATION:Independence Health & Therapy 2028 N Seminary Ave\, Woodstock
UID:e.2851.18202
SEQUENCE:3
DTSTAMP:20260420T184702Z
URL:https://business.woodstockilchamber.com/events/details/independence-health-therapy-multi-chamber-mixer-18202
END:VEVENT

END:VCALENDAR
