BEGIN:VCALENDAR
VERSION:2.0
PRODID:-//ChamberMaster//Event Calendar 2.0//EN
METHOD:PUBLISH
X-PUBLISHED-TTL:P3D
REFRESH-INTERVAL:P3D
CALSCALE:GREGORIAN
BEGIN:VEVENT
DTSTART:20200616T000000Z
DTEND:20200616T014500Z
X-MICROSOFT-CDO-ALLDAYEVENT:FALSE
SUMMARY:Intermediate Obedience Group Class
DESCRIPTION:Intermediate Obedience \n\n\n\nWeek 1: Review learned behaviors from beginner's obedience (Sit\, Down\, Heel\, stay\, and Come). Work on stay walk around dog. Introduce Judges Exam. Work on front and heel positions.\n\nWeek 2: Introduce the pattern for beginner novice and novice obedience. Work on stay walk around dog and recall on long line.\n\nWeek 3: Introduce the jumps for open obedience\, group sit-stay and down-stay at the end of a 6 foot leash. Continue to work on the previously learned behaviors.\n\nWeek 4: Introduce the dumbbell retrieve\, continue to work on the previously learned behaviors.\n\nWeek 5: Introduce off leash recall and off leash sit-stay walk around dog\, continue to work on previously learned behaviors. \n\nWeek 6: Introduce off leash novice obedience pattern\, work on long distance behaviors\, and work on all previously learned behaviors.
X-ALT-DESC;FMTTYPE=text/html:<div style="text-align:center"><strong><u>Intermediate Obedience&nbsp\;</u></strong><br />\n<br />\nWeek 1: Review learned behaviors from beginner&rsquo\;s obedience (Sit\, Down\, Heel\, stay\, and Come). Work on stay walk around dog. Introduce Judges Exam. Work on front and heel positions.<br />\nWeek 2: Introduce the pattern for beginner novice and novice obedience. Work on stay walk around dog and recall on long line.<br />\nWeek 3: Introduce the jumps for open obedience\, group sit-stay and down-stay at the end of a 6 foot leash. Continue to work on the previously learned behaviors.<br />\nWeek 4: Introduce the dumbbell retrieve\, continue to work on the previously learned behaviors.<br />\nWeek 5: Introduce off leash recall and off leash sit-stay walk around dog\, continue to work on previously learned behaviors.&nbsp\;<br />\nWeek 6: Introduce off leash novice obedience pattern\, work on long distance behaviors\, and work on all previously learned behaviors.<br />\n&nbsp\;</div>\n
LOCATION:Alden's Kennels Inc. 6810 Barnard Mill RD. Ringwood IL. 60072
UID:e.2851.6372
SEQUENCE:3
DTSTAMP:20260422T191034Z
URL:https://business.woodstockilchamber.com/events/details/intermediate-obedience-group-class-04-23-2018-6372
END:VEVENT

END:VCALENDAR
