BEGIN:VCALENDAR
VERSION:2.0
PRODID:-//ChamberMaster//Event Calendar 2.0//EN
METHOD:PUBLISH
X-PUBLISHED-TTL:P3D
REFRESH-INTERVAL:P3D
CALSCALE:GREGORIAN
BEGIN:VEVENT
DTSTART;VALUE=DATE:20191106
DTEND;VALUE=DATE:20191107
TRANSP:TRANSPARENT
X-MICROSOFT-CDO-ALLDAYEVENT:TRUE
SUMMARY:Isabel's 15th Anniversary
DESCRIPTION:
X-ALT-DESC;FMTTYPE=text/html:
LOCATION:1110 N. Seminary Ave Woodstock\, IL
UID:e.2851.10394
SEQUENCE:3
DTSTAMP:20260423T071312Z
URL:https://business.woodstockilchamber.com/events/details/isabel-s-15th-anniversary-10394
END:VEVENT

END:VCALENDAR
