BEGIN:VCALENDAR
VERSION:2.0
PRODID:-//ChamberMaster//Event Calendar 2.0//EN
METHOD:PUBLISH
X-PUBLISHED-TTL:P3D
REFRESH-INTERVAL:P3D
CALSCALE:GREGORIAN
BEGIN:VEVENT
DTSTART:20200201T160000Z
DTEND:20200201T170000Z
X-MICROSOFT-CDO-ALLDAYEVENT:FALSE
SUMMARY:Jim May's Groundhog Tales
DESCRIPTION:Woodstock's favorite storyteller is back for \n\nmore family friendly tales.
X-ALT-DESC;FMTTYPE=text/html:<span style="font-size:16px\;">Woodstock&#39\;s favorite storyteller is back for&nbsp\;<br />\nmore family friendly tales.</span>
LOCATION:Home State Bank 124 S. Johnson St. Woodstock\, Il
UID:e.2851.10440
SEQUENCE:3
DTSTAMP:20260423T034726Z
URL:https://business.woodstockilchamber.com/events/details/jim-may-s-groundhog-tales-10440
END:VEVENT

END:VCALENDAR
