BEGIN:VCALENDAR
VERSION:2.0
PRODID:-//ChamberMaster//Event Calendar 2.0//EN
METHOD:PUBLISH
X-PUBLISHED-TTL:P3D
REFRESH-INTERVAL:P3D
CALSCALE:GREGORIAN
BEGIN:VEVENT
DTSTART:20200416T150000Z
DTEND:20200416T170000Z
X-MICROSOFT-CDO-ALLDAYEVENT:FALSE
SUMMARY:Katherine Gray - After\, words
DESCRIPTION:As a glass artist transforming molten liquid into something still and solid\, Katherine Gray makes the invisible\, visible. Her award-winning work has appeared in solo exhibitions at the Toledo Museum of Art and the Heller Gallery in New York City. Gray traces her artistic journey and discusses the continued relevance of glass as a material in her artistic practice\, especially the value in making things in a society increasingly ruled by machines and simulated experiences. She will also relate her adventures as 'resident evaluator' on Blown Away\, the competitive reality glassblowing series produced by Netflix.\n\nPresented by Woodstock Fine Arts Association's 56th Annual Creative Living Series
X-ALT-DESC;FMTTYPE=text/html:<h3>As a glass artist transforming molten liquid into something still and solid\, Katherine Gray makes the invisible\, visible. Her award-winning work has appeared in solo exhibitions at the Toledo Museum of Art and the Heller Gallery in New York City. Gray traces her artistic journey and discusses the continued relevance of glass as a material in her artistic practice\, especially the value in making things in a society increasingly ruled by machines and simulated experiences. She will also relate her adventures as &#39\;resident evaluator&#39\; on Blown Away\, the competitive reality glassblowing series produced by Netflix.</h3>\n\n<p>Presented by Woodstock Fine Arts Association&#39\;s&nbsp\;56th&nbsp\;Annual Creative Living Series</p>\n
LOCATION:Woodstock Opera House 121 Van Buren Street Woodstock\, IL 60098
UID:e.2851.10821
SEQUENCE:3
DTSTAMP:20260422T222941Z
URL:https://business.woodstockilchamber.com/events/details/katherine-gray-after-words-10821
END:VEVENT

END:VCALENDAR
