BEGIN:VCALENDAR
VERSION:2.0
PRODID:-//ChamberMaster//Event Calendar 2.0//EN
METHOD:PUBLISH
X-PUBLISHED-TTL:P3D
REFRESH-INTERVAL:P3D
CALSCALE:GREGORIAN
BEGIN:VEVENT
DTSTART:20191102T000000Z
DTEND:20191102T020000Z
X-MICROSOFT-CDO-ALLDAYEVENT:FALSE
SUMMARY:Kinky Boots - A Cinematic Experience
DESCRIPTION:A THEATRE CINEMA BROADCAST\n\nWith songs by Grammy  and Tony  winning pop icon Cyndi Lauper\, direction and choreography by Jerry Mitchell (Legally Blonde\, Hairspray) and book by Broadway legend Harvey Fierstein (La Cage Aux Folles)\, this 'dazzling\, fabulously sassy and uplifting' (Time Out) award-winning musical celebrates a joyous story of Brit grit to high-heeled hit\, as it takes you from the factory floor of Northampton to the glamorous catwalks of Milan!\n\n \n\nDon't miss the 'freshest\, most fabulous\, feel-good musical of the decade' (The Hollywood News) as it arrives on cinema screens. \n\n \n\nPresented by Woodstock Opera House in partnership with National Theatre Live and distributed by BY Experience\n\nTICKETS: $18.00 Adult\, $15.00 Student/Senior\, $13.00 Groups (20 or more)\n*Subscription packages available\n\nThis program is supported in part by a generous donation from the Woodstock Fine Arts Association in memory of Darlene Fiske.
X-ALT-DESC;FMTTYPE=text/html:<h2>A THEATRE&nbsp\;CINEMA BROADCAST</h2>\n\n<p>With songs by Grammy&reg\; and Tony&reg\; winning pop icon&nbsp\;Cyndi Lauper\, direction and choreography by&nbsp\;Jerry Mitchell&nbsp\;(Legally Blonde\, Hairspray) and book by Broadway legend&nbsp\;Harvey Fierstein&nbsp\;(La Cage Aux Folles)\, this&nbsp\;&lsquo\;dazzling\, fabulously sassy and uplifting&rsquo\;&nbsp\;(Time Out) award-winning musical celebrates a joyous story of Brit grit to high-heeled hit\, as it takes you from the factory floor of Northampton to the glamorous catwalks of Milan!</p>\n\n<p>&nbsp\;</p>\n\n<h3>Don&rsquo\;t miss the&nbsp\;&lsquo\;freshest\, most fabulous\, feel-good musical of the decade&rsquo\;&nbsp\;(The Hollywood News) as it arrives on cinema screens.&nbsp\;</h3>\n\n<p>&nbsp\;</p>\n\n<p>Presented by Woodstock Opera House in partnership with National Theatre Live and distributed by BY Experience</p>\n\n<p><a href="https://www.ticketreturn.com/prod2/team.asp?SponsorID=12522#.XYJJkChKiUl">TICKETS:&nbsp\;$18.00 Adult\, $15.00 Student/Senior\, $13.00 Groups (20 or more)</a></p>\n<strong>*Subscription packages available</strong>\n\n<h3>This program is supported in part by&nbsp\;a generous donation from&nbsp\;the Woodstock Fine Arts Association in memory of Darlene Fiske.</h3>\n
LOCATION:Woodstock Opera House 121 Van Buren Street Woodstock\, IL 60098
UID:e.2851.10290
SEQUENCE:3
DTSTAMP:20260423T071408Z
URL:https://business.woodstockilchamber.com/events/details/kinky-boots-a-cinematic-experience-10290
END:VEVENT

END:VCALENDAR
