BEGIN:VCALENDAR
VERSION:2.0
PRODID:-//ChamberMaster//Event Calendar 2.0//EN
METHOD:PUBLISH
X-PUBLISHED-TTL:P3D
REFRESH-INTERVAL:P3D
CALSCALE:GREGORIAN
BEGIN:VEVENT
DTSTART:20200202T003000Z
DTEND:20200202T020000Z
X-MICROSOFT-CDO-ALLDAYEVENT:FALSE
SUMMARY:Kiwanis Groundhog Day Trivia
DESCRIPTION:Test your knowledge of Groundhog Day the Movie and Groundhog\n\nDay the holiday.  The Kiwanis Club is your host for this round of\n\nfun and games.
X-ALT-DESC;FMTTYPE=text/html:Test your knowledge of Groundhog Day the Movie and Groundhog<br />\nDay the holiday.&nbsp\; The Kiwanis Club is your host for this round of<br />\nfun and games.
LOCATION:Stage Left Cafe 125 W. Van Buren St. Woodstock\, IL
UID:e.2851.10447
SEQUENCE:3
DTSTAMP:20260423T020356Z
URL:https://business.woodstockilchamber.com/events/details/kiwanis-groundhog-day-trivia-10447
END:VEVENT

END:VCALENDAR
