BEGIN:VCALENDAR
VERSION:2.0
PRODID:-//ChamberMaster//Event Calendar 2.0//EN
METHOD:PUBLISH
X-PUBLISHED-TTL:P3D
REFRESH-INTERVAL:P3D
CALSCALE:GREGORIAN
BEGIN:VEVENT
DTSTART:20200501T000000Z
DTEND:20200501T020000Z
X-MICROSOFT-CDO-ALLDAYEVENT:FALSE
SUMMARY:Leonardo 500 - Great Art on Screen
DESCRIPTION:Five hundred years after his death\, Leonardo continues to be one of the most admired and well-known figures in human history. An artist\, architect\, humanist\, naturalist and military strategist\, Leonardo Da Vinci was\, above all else\, a tireless observer constantly searching for new discoveries. \n\nThrough the use of decades-long studies and research by leading international experts\, technicians and engineers\, the event film exclusively analyzes the theories and modern implications behind Da Vinci's work\, allowing audiences to witness the genius of Leonardo with new and insightful perspectives.  \n\nPresented by Woodstock Opera House in partnership with Woodstock Fine Arts Association\n\nTICKETS: $18.00 Adult\, $15.00 Senior\, $13.00 Student\,  $13.00 Groups (20 or more)\n\n\n\nhttps://www.woodstockoperahouse.com/operahouse/page/leonardo-500
X-ALT-DESC;FMTTYPE=text/html:<h1>&nbsp\;</h1>\n\n<p>Five hundred years after his death\, Leonardo continues to be one of the most admired and well-known figures in human history. An artist\, architect\, humanist\, naturalist and military strategist\, Leonardo Da Vinci was\, above all else\, a tireless observer constantly searching for new discoveries.&nbsp\;</p>\n\n<p>Through the use of decades-long studies and research by leading international experts\, technicians and engineers\, the event&nbsp\;film exclusively analyzes the theories and modern implications behind Da Vinci&#39\;s&nbsp\;work\, allowing audiences to witness the genius of Leonardo with new and insightful perspectives.&nbsp\;&nbsp\;</p>\n\n<p>Presented by Woodstock Opera House in partnership with Woodstock Fine Arts Association</p>\n\n<p>TICKETS:&nbsp\;$18.00 Adult\, $15.00 Senior\, $13.00 Student\,&nbsp\; $13.00 Groups (20 or more)<br />\n<br />\n<a href="https://www.woodstockoperahouse.com/operahouse/page/leonardo-500">https://www.woodstockoperahouse.com/operahouse/page/leonardo-500</a></p>\n
LOCATION:Woodstock Opera House 121 Van Buren Street Woodstock\, IL 60098
UID:e.2851.11217
SEQUENCE:3
DTSTAMP:20260422T224050Z
URL:https://business.woodstockilchamber.com/events/details/leonardo-500-great-art-on-screen-11217
END:VEVENT

END:VCALENDAR
