BEGIN:VCALENDAR
VERSION:2.0
PRODID:-//ChamberMaster//Event Calendar 2.0//EN
METHOD:PUBLISH
X-PUBLISHED-TTL:P3D
REFRESH-INTERVAL:P3D
CALSCALE:GREGORIAN
BEGIN:VEVENT
DTSTART:20200319T150000Z
DTEND:20200319T170000Z
X-MICROSOFT-CDO-ALLDAYEVENT:FALSE
SUMMARY:Liesl Olson - Chicago Renaissance: Literature and Art in the Midwest Metropolis - CANCELLED
DESCRIPTION:From the 1893 World's Fair through the mid-20th century\, Chicago was a center of sweeping aesthetic transformations known as the modernist movement. Carl Sandburg\, Harriet Monroe\, Ernest Hemingway\, Gwendolyn Brooks and Richard Wright were among the more famous of the writers and artists engaged in the euphoric struggle to make and represent a new age. Liesl Olson\, director of Chicago Studies at the Newberry Library\, brings us their stories and the stories of many others. Her book\, Chicago Renaissance\, was awarded the 2018 Pegasus Prize from the Poetry Foundation.\n\nPresented by Woodstock Fine Arts Association's 56th Annual Creative Living Series
X-ALT-DESC;FMTTYPE=text/html:<h3>From the 1893 World&rsquo\;s Fair through the mid-20th century\, Chicago was a center of sweeping aesthetic transformations known as the modernist movement. Carl Sandburg\, Harriet Monroe\, Ernest Hemingway\, Gwendolyn Brooks and Richard Wright were among the more famous of the writers and artists engaged in the euphoric struggle to make and represent a new age. Liesl Olson\, director of Chicago Studies at the Newberry Library\, brings us their stories and the stories of many others. Her book\, Chicago Renaissance\, was awarded the 2018 Pegasus Prize from the Poetry Foundation.</h3>\n\n<p>Presented by Woodstock Fine Arts Association&#39\;s&nbsp\;56th&nbsp\;Annual Creative Living Series</p>\n
LOCATION:Woodstock Opera House 121 Van Buren Street Woodstock\, IL 60098
UID:e.2851.10820
SEQUENCE:3
DTSTAMP:20260423T002158Z
URL:https://business.woodstockilchamber.com/events/details/liesl-olson-chicago-renaissance-literature-and-art-in-the-midwest-metropolis-cancelled-10820
END:VEVENT

END:VCALENDAR
