BEGIN:VCALENDAR
VERSION:2.0
PRODID:-//ChamberMaster//Event Calendar 2.0//EN
METHOD:PUBLISH
X-PUBLISHED-TTL:P3D
REFRESH-INTERVAL:P3D
CALSCALE:GREGORIAN
BEGIN:VEVENT
DTSTART:20191031T000000Z
DTEND:20191031T020000Z
X-MICROSOFT-CDO-ALLDAYEVENT:FALSE
SUMMARY:Little Shop of Horrors - The Movie
DESCRIPTION:Little Shop of Horrors - Movies at the Opera House\n\nMeek flower shop assistant Seymour (Rick Moranis) pines for co-worker Audrey (Ellen Greene). During a total eclipse\, he discovers an unusual plant he names Audrey II\, which feeds only on human flesh and blood. The growing plant attracts a great deal of business for the previously struggling store. After Seymour feeds Audrey's boyfriend\, Orin (Steve Martin)\, to the plant after Orin's accidental death\, he must come up with more bodies for the increasingly bloodthirsty plant.\n\nJoin us for Little Shop of Horrors trivia at 6:45 prior to the show!\n\nPresented by Woodstock Opera House\n\nTICKETS: $5.00 All Seats
X-ALT-DESC;FMTTYPE=text/html:<h2>Little Shop of Horrors - Movies at the Opera House</h2>\n\n<p>Meek flower shop assistant Seymour (Rick Moranis) pines for co-worker Audrey (Ellen Greene). During a total eclipse\, he discovers an unusual plant he names Audrey II\, which feeds only on human flesh and blood. The growing plant attracts a great deal of business for the previously struggling store. After Seymour feeds Audrey&#39\;s boyfriend\, Orin (Steve Martin)\, to the plant after Orin&#39\;s accidental death\, he must come up with more bodies for the increasingly bloodthirsty plant.</p>\n\n<p>Join us for Little Shop of Horrors&nbsp\;trivia at 6:45 prior to the show!</p>\n\n<p><strong>Presented by Woodstock Opera House</strong></p>\n\n<p><a href="https://www.ticketreturn.com/prod2/BuyNew.asp?EventID=276325#.XYJHMShKiUk">TICKETS:&nbsp\;$5.00 All Seats</a></p>\n
LOCATION:Woodstock Opera House 121 Van Buren Street Woodstock\, IL 60098
UID:e.2851.10289
SEQUENCE:3
DTSTAMP:20260423T090256Z
URL:https://business.woodstockilchamber.com/events/details/little-shop-of-horrors-the-movie-10289
END:VEVENT

END:VCALENDAR
