BEGIN:VCALENDAR
VERSION:2.0
PRODID:-//ChamberMaster//Event Calendar 2.0//EN
METHOD:PUBLISH
X-PUBLISHED-TTL:P3D
REFRESH-INTERVAL:P3D
CALSCALE:GREGORIAN
BEGIN:VEVENT
DTSTART;VALUE=DATE:20191019
DTEND;VALUE=DATE:20191020
TRANSP:TRANSPARENT
X-MICROSOFT-CDO-ALLDAYEVENT:TRUE
SUMMARY:Lobster Fest - fundraiser for TLS Veterans
DESCRIPTION:St. Ann's annual LOBSTER FEST offers an opportunity to enjoy fresh Maine lobsters (we'll even cook them for you!) . . . AND at the same time help raise funds for a Woodstock-area service organization.\n\nLast year LOBSTER FEST supported TLS Veterans: Transforming Lives through Service to Veterans.  This year we again will donate 100% of net proceeds to TLS.  ORDER online at:  www.stannslobsterfest.com OR CALL 1-815-338-0950. PICK UP on October 19th at St. Ann's in Woodstock.
X-ALT-DESC;FMTTYPE=text/html:<span style="font-family:century gothic\,sans-serif"><span style="font-size:13.5pt">St. Ann&rsquo\;s annual </span></span><strong><span style="color:red"><span style="font-family:stencil std"><span style="font-size:13.5pt">LOBSTER FEST</span></span></span></strong> <span style="font-family:century gothic\,sans-serif"><span style="font-size:13.5pt">offers an opportunity to <strong>enjoy fresh Maine lobsters</strong> (we&rsquo\;ll even cook them for you!) . . . <em>AND</em> at the same time <strong>help raise funds for a Woodstock-area service organization.</strong></span></span><br />\n<span style="font-family:century gothic\,sans-serif"><span style="font-size:13.5pt">Last year </span></span><span style="color:red"><span style="font-family:stencil std"><span style="font-size:13.5pt">LOBSTER FEST</span></span></span> <span style="font-family:century gothic\,sans-serif"><span style="font-size:13.5pt">supported <strong>TLS Veterans: <em>Transforming Lives through Service to Veterans</em>.</strong>&nbsp\; This year we again will donate <strong>100% of net proceeds to TLS.&nbsp\; ORDER online at:&nbsp\; www.stannslobsterfest.com OR CALL 1-815-338-0950. PICK UP on October 19th at St. Ann&#39\;s in Woodstock.</strong></span></span>
LOCATION:St. Ann's Episcopal Church 503 W. Jackson St. Woodstock\, IL 60098
UID:e.2851.10248
SEQUENCE:3
DTSTAMP:20260423T085535Z
URL:https://business.woodstockilchamber.com/events/details/lobster-fest-fundraiser-for-tls-veterans-10248
END:VEVENT

END:VCALENDAR
