BEGIN:VCALENDAR
VERSION:2.0
PRODID:-//ChamberMaster//Event Calendar 2.0//EN
METHOD:PUBLISH
X-PUBLISHED-TTL:P3D
REFRESH-INTERVAL:P3D
CALSCALE:GREGORIAN
BEGIN:VEVENT
DTSTART:20191012T010000Z
DTEND:20191012T030000Z
X-MICROSOFT-CDO-ALLDAYEVENT:FALSE
SUMMARY:Mamma Mia! Theatre 121
DESCRIPTION:October 4\, 5\, 6\, 11\, 12\, 13\, 18\, 19 & 20\, 2019 \n\nFridays and Saturdays at 8 PM & Sundays at 2 PM\n\n(Additional Saturday Matinees at 2 PM on October 12 & 19)\n\n \n\nA mother. A daughter. Three possible dads. And a trip down the aisle you'll never forget!\n\nOver 60 million people worldwide have fallen in love with the characters\, the story and the music that make Mamma Mia! The ultimate feel-good show!\n\nABBA's hits tell the hilarious story of a young woman's search for her birth father. This sunny and funny tale unfolds on a Greek island paradise. On the eve of her wedding\, a daughter's quest to discover the identity of her father brings three men from her mother's past back to the island they last visited 20 years ago.\n\nPresented by Theatre 121\n\nTICKETS: Adult $29 A\, $26 B Seating\n\nStudent & Seniors $27 A\, $24 B Seating
X-ALT-DESC;FMTTYPE=text/html:<h2><strong>October 4\, 5\, 6\, 11\,&nbsp\;12\, 13\, 18\,&nbsp\;19&nbsp\;&amp\;&nbsp\;20\, 2019&nbsp\;<br />\nFridays and Saturdays at 8 PM &amp\; Sundays at 2 PM<br />\n(Additional Saturday Matinees at 2 PM on October 12 &amp\; 19)</strong></h2>\n\n<p>&nbsp\;</p>\n\n<p>A mother. A daughter. Three possible dads. And a trip down the aisle you&rsquo\;ll never forget!</p>\n\n<p>Over 60 million people worldwide have fallen in love with the characters\, the story and the music that make Mamma Mia! The ultimate feel-good show!</p>\n\n<p>ABBA&rsquo\;s hits tell the hilarious story of a young woman&rsquo\;s search for her birth father. This sunny and funny tale unfolds on a Greek island paradise. On the eve of her wedding\, a daughter&rsquo\;s quest to discover the identity of her father brings three men from her mother&rsquo\;s past back to the island they last visited 20 years ago.</p>\n\n<p><strong>Presented by Theatre 121</strong></p>\n\n<p><strong>TICKETS: Adult $29&nbsp\;A\, $26&nbsp\;B Seating<br />\nStudent &amp\; Seniors $27 A\, $24 B&nbsp\;Seating</strong></p>\n
LOCATION:Woodstock Opera House 121 W Van Buren St Woodstock IL 60098
UID:e.2851.10277
SEQUENCE:3
DTSTAMP:20260423T103158Z
URL:https://business.woodstockilchamber.com/events/details/mamma-mia-theatre-121-10-11-2019-10277
END:VEVENT

END:VCALENDAR
