BEGIN:VCALENDAR
VERSION:2.0
PRODID:-//ChamberMaster//Event Calendar 2.0//EN
METHOD:PUBLISH
X-PUBLISHED-TTL:P3D
REFRESH-INTERVAL:P3D
CALSCALE:GREGORIAN
BEGIN:VEVENT
DTSTART:20200220T160000Z
DTEND:20200220T180000Z
X-MICROSOFT-CDO-ALLDAYEVENT:FALSE
SUMMARY:Mary Zimmerman - Staging the Impossible: Visual Metaphor in Adaptation for the Theatre
DESCRIPTION:How does a director and adaptor of literature for the stage solve the problems of staging sea battles and monsters\, flying and transfigurations? Mary Zimmerman demonstrates how imaginative imagery   a kind of visual poetry   is deployed to create all manner of the fantastical on stage. A recipient of numerous creative awards\, including a Tony Award for Best Direction (2002) and the prestigious John D. and Catherine T. MacArthur Fellowship (1998)\, she is an ensemble member of the Lookingglass Theatre Company\, the Manilow Resident Director at the Goodman Theatre\, and a faculty member in the Performance Studies department at Northwestern University. \n\nPresented by Woodstock Fine Arts Association's 56th Annual Creative Living Series
X-ALT-DESC;FMTTYPE=text/html:<h3>How does a director and adaptor of literature for the stage solve the problems of staging sea battles and monsters\, flying and transfigurations? Mary Zimmerman demonstrates how imaginative imagery &ndash\; a kind of visual poetry &ndash\; is deployed to create all manner of the fantastical on stage. A recipient of numerous creative awards\, including a Tony Award for Best Direction (2002) and the prestigious John D. and Catherine T. MacArthur Fellowship (1998)\, she is an ensemble member of the Lookingglass Theatre Company\, the Manilow Resident Director at the Goodman Theatre\, and a faculty member in the Performance Studies department at Northwestern University.&nbsp\;</h3>\n\n<p>Presented by Woodstock Fine Arts Association&#39\;s&nbsp\;56th&nbsp\;Annual Creative Living Series</p>\n
LOCATION:Woodstock Opera House 121 Van Buren Street Woodstock\, IL 60098
UID:e.2851.10672
SEQUENCE:3
DTSTAMP:20260423T034913Z
URL:https://business.woodstockilchamber.com/events/details/mary-zimmerman-staging-the-impossible-visual-metaphor-in-adaptation-for-the-theatre-10672
END:VEVENT

END:VCALENDAR
