BEGIN:VCALENDAR
VERSION:2.0
PRODID:-//ChamberMaster//Event Calendar 2.0//EN
METHOD:PUBLISH
X-PUBLISHED-TTL:P3D
REFRESH-INTERVAL:P3D
CALSCALE:GREGORIAN
BEGIN:VEVENT
DTSTART:20200322T010000Z
DTEND:20200322T030000Z
X-MICROSOFT-CDO-ALLDAYEVENT:FALSE
SUMMARY:Matilda
DESCRIPTION:The story of an extraordinary girl who\, armed with a vivid imagination and a sharp mind\, dares to take a stand and change her own destiny.\n\nInspired by the twisted genius of Roald Dahl\, the Tony Award-winning Roald Dahl's Matilda The Musical is the captivating masterpiece from the Royal Shakespeare Company that revels in the anarchy of childhood\, the power of imagination and the inspiring story of a girl who dreams of a better life. With book by Dennis Kelly and original songs by Tim Minchin\, Matilda has won 47 international awards and continues to thrill sold-out audiences of all ages around the world.\n\nPresented by Theatre 121
X-ALT-DESC;FMTTYPE=text/html:<p>The story of an extraordinary girl who\, armed with a vivid imagination and a sharp mind\, dares to take a stand and change her own destiny.</p>\n\n<p>Inspired by the twisted genius of Roald Dahl\, the Tony Award-winning Roald Dahl&rsquo\;s Matilda The Musical is the captivating masterpiece from the Royal Shakespeare Company that revels in the anarchy of childhood\, the power of imagination and the inspiring story of a girl who dreams of a better life. With book by Dennis Kelly and original songs by Tim Minchin\, Matilda has won 47 international awards and continues to thrill sold-out audiences of all ages around the world.</p>\n\n<p><strong>Presented by Theatre 121</strong></p>\n
LOCATION:Woodstock Opera House 121 Van Buren Street Woodstock\, IL 60098
UID:e.2851.10813
SEQUENCE:3
DTSTAMP:20260423T020347Z
URL:https://business.woodstockilchamber.com/events/details/matilda-03-21-2020-10813
END:VEVENT

END:VCALENDAR
