BEGIN:VCALENDAR
VERSION:2.0
PRODID:-//ChamberMaster//Event Calendar 2.0//EN
METHOD:PUBLISH
X-PUBLISHED-TTL:P3D
REFRESH-INTERVAL:P3D
CALSCALE:GREGORIAN
BEGIN:VEVENT
DTSTART:20200116T160000Z
DTEND:20200116T180000Z
X-MICROSOFT-CDO-ALLDAYEVENT:FALSE
SUMMARY:Matthew Cordell - A Look Inside the Studio of a Caldecott Medal Winners
DESCRIPTION:Thursday\, January 16\, 2020 at 10:00 AM\n\nFor as long as he can remember\, author and illustrator Matthew Cordell has been drawing pictures. One of the greatest and most persistent joys of his life has been making art and sharing it with an audience. Join Cordell for a peek inside his studio and for a walk along the path that led him through the worlds of fine art\, graphic design\, and children's books a journey that culminated in receiving the greatest honor in American children's book illustration\, the 2018 Caldecott Medal.\n\nPresented by Woodstock Fine Arts Association's 56th Annual Creative Living Series\n\nTICKETS: $25.00 All Seats
X-ALT-DESC;FMTTYPE=text/html:<p>Thursday\, January 16\, 2020 at 10:00 AM</p>\n\n<p>For as long as he can remember\, author and illustrator Matthew Cordell has been drawing pictures. One of the greatest and most persistent joys of his life has been making art and sharing it with an audience. Join Cordell for a peek inside his studio and for a walk along the path that led him through the worlds of fine art\, graphic design\, and children&#39\;s books&mdash\;a journey that culminated in receiving the greatest honor in American children&#39\;s book illustration\, the 2018 Caldecott Medal.</p>\n\n<p>Presented by Woodstock Fine Arts Association&#39\;s&nbsp\;56th&nbsp\;Annual Creative Living Series</p>\n\n<p><a href="https://www.ticketreturn.com/prod2/Buy.asp?EventID=282393#.Xc2u71dKiUl">TICKETS:&nbsp\;$25.00 All Seats</a></p>\n
LOCATION:Woodstock Opera House 121 Van Buren Street Woodstock\, IL 60098
UID:e.2851.10453
SEQUENCE:3
DTSTAMP:20260423T053419Z
URL:https://business.woodstockilchamber.com/events/details/matthew-cordell-a-look-inside-the-studio-of-a-caldecott-medal-winners-10453
END:VEVENT

END:VCALENDAR
