BEGIN:VCALENDAR
VERSION:2.0
PRODID:-//ChamberMaster//Event Calendar 2.0//EN
METHOD:PUBLISH
X-PUBLISHED-TTL:P3D
REFRESH-INTERVAL:P3D
CALSCALE:GREGORIAN
BEGIN:VEVENT
DTSTART:20200112T020000Z
DTEND:20200112T040000Z
X-MICROSOFT-CDO-ALLDAYEVENT:FALSE
SUMMARY:McHenry County New Music Revue
DESCRIPTION:The McHenry County New Music Revue brings 3 of the hottest musical acts in the region to the Woodstock Opera House.\n\nWith a wide range of musical influences\, the Ian Hall Band is fast becoming one of the regions most sought after bands. Their brand of rock is sure to get the blood flowing. ?Crazyheart\, featuring John Ballantyne\, will be bringing a rousing honky-tonk flavor to the revue\, blending the sounds of Johny Cash\, John Prine and many others. Rounding out the show is Karen Shook\, a one woman soul rocker who has been dazzling crowds with hot guitar licks and great vocals.\n\n\n\nPresented by Mike Levitan\n\n\n\nTICKETS: $23.00 All Seats
X-ALT-DESC;FMTTYPE=text/html:<p>The McHenry County New Music Revue brings 3 of the hottest musical acts in the region to the Woodstock Opera House.</p>\n\n<p>With a wide range of musical influences\, the Ian Hall Band is fast becoming one of the regions most sought after&nbsp\;bands. Their brand of rock is sure to get the blood flowing.&nbsp\;?Crazyheart\, featuring John&nbsp\;Ballantyne\, will be bringing a rousing&nbsp\;honky-tonk&nbsp\;flavor to the revue\, blending the sounds of&nbsp\;Johny&nbsp\;Cash\, John&nbsp\;Prine&nbsp\;and many others.&nbsp\;Rounding out the show is Karen Shook\, a one woman soul rocker who has been dazzling crowds with hot guitar licks and great vocals.<br />\n<br />\nPresented by Mike Levitan<br />\n<br />\n<a href="https://www.ticketreturn.com/prod2/BuyNew.asp?EventID=304295&amp\;SponsorID=12373#.Xe6g2ehKiUl">TICKETS:&nbsp\;$23.00 All Seats</a></p>\n
LOCATION:Woodstock Opera House 121 Van Buren Street Woodstock\, IL 60098
UID:e.2851.10493
SEQUENCE:3
DTSTAMP:20260423T034633Z
URL:https://business.woodstockilchamber.com/events/details/mchenry-county-new-music-revue-10493
END:VEVENT

END:VCALENDAR
