BEGIN:VCALENDAR
VERSION:2.0
PRODID:-//ChamberMaster//Event Calendar 2.0//EN
METHOD:PUBLISH
X-PUBLISHED-TTL:P3D
REFRESH-INTERVAL:P3D
CALSCALE:GREGORIAN
BEGIN:VEVENT
DTSTART:20191012T153000Z
DTEND:20191012T160000Z
X-MICROSOFT-CDO-ALLDAYEVENT:FALSE
SUMMARY:Mighty Reader Story Time
DESCRIPTION:Meet us under the tree inside Read Between the Lynes for a special story time! We'll be reading Mighty Reader and the Big Freeze. All are welcome to join as we see Mighty Reader's adventures in reading!
X-ALT-DESC;FMTTYPE=text/html:<span style="color:rgb(29\, 33\, 41)\; font-family:helvetica\,arial\,sans-serif\; font-size:14px">Meet us under the tree inside Read Between the Lynes for a special story time! We&#39\;ll be reading Mighty Reader and the Big Freeze. All are welcome to join as we see Mighty Reader&#39\;s adventures in reading!</span>
LOCATION:Read Between the Lynes 111 E Van Buren St Woodstock\, IL 60098
UID:e.2851.10382
SEQUENCE:3
DTSTAMP:20260423T084952Z
URL:https://business.woodstockilchamber.com/events/details/mighty-reader-story-time-10382
END:VEVENT

END:VCALENDAR
