BEGIN:VCALENDAR
VERSION:2.0
PRODID:-//ChamberMaster//Event Calendar 2.0//EN
METHOD:PUBLISH
X-PUBLISHED-TTL:P3D
REFRESH-INTERVAL:P3D
CALSCALE:GREGORIAN
BEGIN:VEVENT
DTSTART:20200223T020000Z
DTEND:20200223T040000Z
X-MICROSOFT-CDO-ALLDAYEVENT:FALSE
SUMMARY:Mississippi Heat with Lurrie Bell
DESCRIPTION:Led by harmonica master and songwriter Pierre Lacocque\, Mississippi Heat is a world-class Chicago Blues Band. Their motto is "Traditional Blues With A Unique Sound" as they present fresh yet vintage-based musical ideas.\n\nMISSISSIPPI HEAT's name is a reflection of Pierre's reverence for Mississippi's blues culture and music. The band's conviction is that there is no deeper music than Delta-inspired blues to express what lies in everyone's soul. They have received world-wide critical acclaim\, including from Living Blues Magazine: "MISSISSIPPI HEAT delivers its traditional urban blues with a freshness\, energy and competence that makes them a treasure on today's Chicago scene."\n\nBuddy Guy has gone on record saying that it's "been a long time since I heard a good blues band like this." And recently the band received this critical acclaim from Bonnie Tallman at the Billtown Blues Festival (Hughesville\, PA): "Can't find enough words to express how blown away everyone was with the Mississippi Heat performance! It was spectacular in every way."
X-ALT-DESC;FMTTYPE=text/html:<p>Led by harmonica master and songwriter Pierre Lacocque\, Mississippi Heat is a world-class Chicago Blues Band. Their motto is &ldquo\;Traditional Blues With A Unique Sound&rdquo\; as they present fresh yet vintage-based musical ideas.</p>\n\n<p>MISSISSIPPI HEAT&rsquo\;s name is a reflection of Pierre&rsquo\;s reverence for Mississippi&rsquo\;s blues culture and music. The band&rsquo\;s conviction is that there is no deeper music than Delta-inspired blues to express what lies in everyone&rsquo\;s soul. They have received world-wide critical acclaim\, including from Living Blues Magazine: &ldquo\;MISSISSIPPI HEAT delivers its traditional urban blues with a freshness\, energy and competence that makes them a treasure on today&rsquo\;s Chicago scene.&rdquo\;</p>\n\n<p>Buddy Guy has gone on record saying that it&rsquo\;s &ldquo\;been a long time since I heard a good blues band like this.&rdquo\; And recently the band received this critical acclaim from Bonnie Tallman at the Billtown Blues Festival (Hughesville\, PA): &ldquo\;Can&rsquo\;t find enough words to express how blown away everyone was with the Mississippi Heat performance! It was spectacular in every way.&rdquo\;</p>\n\n<p>&nbsp\;</p>\n
LOCATION:Woodstock Opera House 121 Van Buren Street Woodstock\, IL 60098
UID:e.2851.10673
SEQUENCE:3
DTSTAMP:20260423T035052Z
URL:https://business.woodstockilchamber.com/events/details/mississippi-heat-with-lurrie-bell-10673
END:VEVENT

END:VCALENDAR
