BEGIN:VCALENDAR
VERSION:2.0
PRODID:-//ChamberMaster//Event Calendar 2.0//EN
METHOD:PUBLISH
X-PUBLISHED-TTL:P3D
REFRESH-INTERVAL:P3D
CALSCALE:GREGORIAN
BEGIN:VEVENT
DTSTART:20191205T230000Z
DTEND:20191206T030000Z
X-MICROSOFT-CDO-ALLDAYEVENT:FALSE
SUMMARY:Mixin Mingle Market at Ladies Night
DESCRIPTION:Ladies Night Out is the most happenin' event of the year on the Woodstock Square. Hundreds of women from near and far come out to the shops and restaurants in this popular holiday outing. \n\nShoppers are looking for unique finds and a place to stop for a break with friends. It's so much fun!
X-ALT-DESC;FMTTYPE=text/html:<p>Ladies Night Out is the most happenin' event of the year on the Woodstock Square. Hundreds of women from near and far come out to the shops and restaurants in this popular holiday outing.&nbsp\;</p>\n\n<p>Shoppers are looking for unique finds and a place to stop for a break with friends. It's so much fun!</p>\n
LOCATION:Mixin Mingle 124 Cass St. Woodstock\, IL
UID:e.2851.10234
SEQUENCE:3
DTSTAMP:20260423T053717Z
URL:https://business.woodstockilchamber.com/events/details/mixin-mingle-market-at-ladies-night-12-05-2019-10234
END:VEVENT

END:VCALENDAR
