BEGIN:VCALENDAR
VERSION:2.0
PRODID:-//ChamberMaster//Event Calendar 2.0//EN
METHOD:PUBLISH
X-PUBLISHED-TTL:P3D
REFRESH-INTERVAL:P3D
CALSCALE:GREGORIAN
BEGIN:VEVENT
DTSTART:20260210T233000Z
DTEND:20260211T003000Z
X-MICROSOFT-CDO-ALLDAYEVENT:FALSE
SUMMARY:Monthly Business Owners & Leaders Connection (formerly B.O.M.)
DESCRIPTION:Local Business Owners & Leaders Connection (formerly B.O.M.) hosted by the City with Chamber of Commerce to bring local Business Owners & Leaders together monthly to share information and discuss issues affecting the Woodstock business community.
X-ALT-DESC;FMTTYPE=text/html:Local Business Owners &amp\; Leaders Connection (formerly B.O.M.) hosted by the City with Chamber of Commerce to bring local Business Owners &amp\; Leaders together monthly to share information and discuss issues affecting the Woodstock business community.
LOCATION:Opera House Community Room
UID:e.2851.4002
SEQUENCE:3
DTSTAMP:20260420T235522Z
URL:https://business.woodstockilchamber.com/events/details/monthly-bom-business-owner-s-meeting-02-10-2026-4002
END:VEVENT

END:VCALENDAR
