BEGIN:VCALENDAR
VERSION:2.0
PRODID:-//ChamberMaster//Event Calendar 2.0//EN
METHOD:PUBLISH
X-PUBLISHED-TTL:P3D
REFRESH-INTERVAL:P3D
CALSCALE:GREGORIAN
BEGIN:VEVENT
DTSTART:20191112T233000Z
DTEND:20191113T003000Z
X-MICROSOFT-CDO-ALLDAYEVENT:FALSE
SUMMARY:Monthly: Business Owners & Leaders Connection (Formally B.O.M.)
DESCRIPTION:Local Business Meeting hosted by the Chamber of Commerce with the City of Woodstock to bring local Business Owners and Leaders together monthly to share information and discuss issues affecting the Woodstock business community.
X-ALT-DESC;FMTTYPE=text/html:Local Business Meeting hosted by the Chamber of Commerce with the City of Woodstock to bring local Business Owners and Leaders together monthly to share information and discuss issues affecting the Woodstock business community.
LOCATION:Opera House Community Room
UID:e.2851.3927
SEQUENCE:3
DTSTAMP:20260423T090115Z
URL:https://business.woodstockilchamber.com/events/details/monthly-bom-business-owner-s-meeting-11-12-2019-3927
END:VEVENT

END:VCALENDAR
