BEGIN:VCALENDAR
VERSION:2.0
PRODID:-//ChamberMaster//Event Calendar 2.0//EN
METHOD:PUBLISH
X-PUBLISHED-TTL:P3D
REFRESH-INTERVAL:P3D
CALSCALE:GREGORIAN
BEGIN:VEVENT
DTSTART:20200426T010000Z
DTEND:20200426T030000Z
X-MICROSOFT-CDO-ALLDAYEVENT:FALSE
SUMMARY:Murder on the Orient Express
DESCRIPTION:Full Length Play\, Dramatic Comedy. Just after midnight\, a snowdrift stops the Orient Express in its tracks. The luxurious train is surprisingly full for the time of the year\, but by the morning it is one passenger fewer. An American tycoon lies dead in his compartment\, stabbed a dozen times\, his door locked from the inside. Isolated and with a killer in their midst\, detective Hercule Poirot must identify the murderer   in case he or she decides to strike again.\n\nPresented by Theatre 121
X-ALT-DESC;FMTTYPE=text/html:<p>Full Length Play\, Dramatic Comedy. Just after midnight\, a snowdrift stops the Orient Express in its tracks. The luxurious train is surprisingly full for the time of the year\, but by the morning it is one passenger fewer. An American tycoon lies dead in his compartment\, stabbed a dozen times\, his door locked from the inside. Isolated and with a killer in their midst\, detective Hercule Poirot must identify the murderer &ndash\; in case he or she decides to strike again.</p>\n\n<p><strong>Presented by Theatre 121</strong></p>\n
LOCATION:Woodstock Opera House 121 Van Buren Street Woodstock\, IL 60098
UID:e.2851.10825
SEQUENCE:3
DTSTAMP:20260422T223250Z
URL:https://business.woodstockilchamber.com/events/details/murder-on-the-orient-express-04-25-2020-10825
END:VEVENT

END:VCALENDAR
