BEGIN:VCALENDAR
VERSION:2.0
PRODID:-//ChamberMaster//Event Calendar 2.0//EN
METHOD:PUBLISH
X-PUBLISHED-TTL:P3D
REFRESH-INTERVAL:P3D
CALSCALE:GREGORIAN
BEGIN:VEVENT
DTSTART:20201209T000000Z
DTEND:20201209T010000Z
X-MICROSOFT-CDO-ALLDAYEVENT:FALSE
SUMMARY:No Meeting Tonight. Monthly B.O.M. (Business Owner's Meeting)
DESCRIPTION:Local Business Owner's Meeting hosted by the City with Chamber of Commerce to bring local Business Owners together monthly to share information and discuss issues affecting the Woodstock business community.
X-ALT-DESC;FMTTYPE=text/html:Local Business Owner&#39\;s Meeting hosted by the City with Chamber of Commerce to bring local Business Owners together monthly to share information and discuss issues affecting the Woodstock business community.
LOCATION:Stage Left Cafe
UID:e.2851.3940
SEQUENCE:3
DTSTAMP:20260422T090014Z
URL:https://business.woodstockilchamber.com/events/details/no-meeting-tonight-monthly-b-o-m-business-owner-s-meeting-3940
END:VEVENT

END:VCALENDAR
