BEGIN:VCALENDAR
VERSION:2.0
PRODID:-//ChamberMaster//Event Calendar 2.0//EN
METHOD:PUBLISH
X-PUBLISHED-TTL:P3D
REFRESH-INTERVAL:P3D
CALSCALE:GREGORIAN
BEGIN:VEVENT
DTSTART:20190926T210000Z
DTEND:20190926T230000Z
X-MICROSOFT-CDO-ALLDAYEVENT:FALSE
SUMMARY:Northwestern Medicine McHenry Hospital Cancer Center Grand Opening Celebration
DESCRIPTION:Join us for an open house at the newly\n\nrenovated and expanded Northwestern\n\nMedicine McHenry Hospital Cancer Center\n\n\n\nMeet the Northwestern Medicine Oncology team\n\nand tour the new 10\,000 square-foot expansion\,\n\nincluding linear accelerator vault and exam\,\n\nconsultation and meeting rooms.  A state-of-the-art\n\nlinear accelerator for radiation therapy and a CT\n\nscanner for treatment simulations are set to be \n\nadded to the new space.\n\n\n\nKindly RSVP by September 16th to\n\nKatie Mader at katherine.mader@nm.org
X-ALT-DESC;FMTTYPE=text/html:Join us for an open house at the newly<br />\nrenovated and expanded Northwestern<br />\nMedicine McHenry Hospital Cancer Center<br />\n<br />\nMeet the Northwestern Medicine Oncology team<br />\nand tour the new 10\,000 square-foot expansion\,<br />\nincluding linear accelerator vault and exam\,<br />\nconsultation and meeting rooms.&nbsp\; A state-of-the-art<br />\nlinear accelerator for radiation therapy and a CT<br />\nscanner for treatment simulations are set to be&nbsp\;<br />\nadded to the new space.<br />\n<br />\nKindly RSVP by September 16th to<br />\nKatie Mader at katherine.mader@nm.org<br />\n&nbsp\;
LOCATION:Northwestern Medicine McHenry Hospital Cancer Center 4305 Medical Center Drive McHenry\, IL 60050
UID:e.2851.10249
SEQUENCE:3
DTSTAMP:20260423T110746Z
URL:https://business.woodstockilchamber.com/events/details/northwestern-medicine-mchenry-hospital-cancer-center-grand-opening-celebration-10249
END:VEVENT

END:VCALENDAR
