BEGIN:VCALENDAR
VERSION:2.0
PRODID:-//ChamberMaster//Event Calendar 2.0//EN
METHOD:PUBLISH
X-PUBLISHED-TTL:P3D
REFRESH-INTERVAL:P3D
CALSCALE:GREGORIAN
BEGIN:VEVENT
DTSTART:20200220T000000Z
DTEND:20200220T004500Z
X-MICROSOFT-CDO-ALLDAYEVENT:FALSE
SUMMARY:AKC Rally Class All Levels
DESCRIPTION:AKC Rally Class\n \n\n\n	\n	Novice AKC Rally  this is the first level for those just getting started in competition.\n\n	\n		\n		All exercises are performed with the dog on leash.\n		\n		\n		There is a requirement of 10-15 stations to complete with no more than five stationary exercises.\n		\n		\n		The exercises performed vary from turning 360 degrees to changing paces during the course.\n		\n		\n		Exhibitors at this level may clap their hands and pat their legs through the course.\n		\n	\n	\n	\n	Advanced   this is the second level\, which includes more difficult exercises throughout the course.\n\n	\n		\n		All exercises are performed off-leash.\n		\n		\n		There is a requirement of 12-17 stations with no more than seven stationary exercises.\n		\n		\n		Exercises include a jump as well as calling your dog to the front of you instead of to a heel position.\n		\n	\n	\n	\n	Excellent   this third and highest level of AKC Rally is the most challenging.\n\n	\n		\n		Exercises are performed off-leash except for the honor exercise.\n		\n		\n		There is a requirement of 15-20 stations\, with no more than 7 stationary exercises.\n		\n		\n		Handlers are only allowed to encourage their dogs verbally. Physical encouragement is not allowed at this level.\n		\n		\n		The Excellent-level exercises include backing up three steps\, while the dog stays in the heel position and a moving stand\, while the handler walks around the dog.\n\n		 \n\n		All dogs can get a number including purebreds and mixed breeds.
X-ALT-DESC;FMTTYPE=text/html:<div style="text-align:center"><strong>AKC Rally Class</strong></div>\n&nbsp\;\n\n<ul>\n	<li>\n	<p><span style="font-size:small"><strong>Novice AKC Rally&ndash\; this is the first level for those just getting started in competition.</strong></span></p>\n\n	<ul>\n		<li>\n		<p><span style="font-size:small"><strong>All exercises are performed with the dog on leash.</strong></span></p>\n		</li>\n		<li>\n		<p><span style="font-size:small"><strong>There is a requirement of 10-15 stations to complete with no more than five stationary exercises.</strong></span></p>\n		</li>\n		<li>\n		<p><span style="font-size:small"><strong>The exercises performed vary from turning 360 degrees to changing paces during the course.</strong></span></p>\n		</li>\n		<li>\n		<p><span style="font-size:small"><strong>Exhibitors at this level may clap their hands and pat their legs through the course.</strong></span></p>\n		</li>\n	</ul>\n	</li>\n	<li>\n	<p><span style="font-size:small"><strong>Advanced &ndash\; this is the second level\, which includes more difficult exercises throughout the course.</strong></span></p>\n\n	<ul>\n		<li>\n		<p><span style="font-size:small"><strong>All exercises are performed off-leash.</strong></span></p>\n		</li>\n		<li>\n		<p><span style="font-size:small"><strong>There is a requirement of 12-17 stations with no more than seven stationary exercises.</strong></span></p>\n		</li>\n		<li>\n		<p><span style="font-size:small"><strong>Exercises include a jump as well as calling your dog to the front of you instead of to a heel position.</strong></span></p>\n		</li>\n	</ul>\n	</li>\n	<li>\n	<p><span style="font-size:small"><strong>Excellent &ndash\; this third and highest level of AKC Rally is the most challenging.</strong></span></p>\n\n	<ul>\n		<li>\n		<p><span style="font-size:small"><strong>Exercises are performed off-leash except for the honor exercise.</strong></span></p>\n		</li>\n		<li>\n		<p><span style="font-size:small"><strong>There is a requirement of 15-20 stations\, with no more than 7 stationary exercises.</strong></span></p>\n		</li>\n		<li>\n		<p><span style="font-size:small"><strong>Handlers are only allowed to encourage their dogs verbally. Physical encouragement is not allowed at this level.</strong></span></p>\n		</li>\n		<li>\n		<p><span style="font-size:small"><strong>The Excellent-level exercises include backing up three steps\, while the dog stays in the heel position and a moving stand\, while the handler walks around the dog.</strong></span><br />\n		&nbsp\;</p>\n\n		<p>All dogs can get a number including purebreds and mixed breeds.</p>\n\n		<p>&nbsp\;</p>\n\n		<h3 style="text-align:center">&nbsp\;</h3>\n		</li>\n	</ul>\n	</li>\n</ul>\n
LOCATION:Alden's Kennels Inc. 6810 Barnard Mill Rd. Ringwood\, IL. 60072
UID:e.2851.6373
SEQUENCE:3
DTSTAMP:20260423T020356Z
URL:https://business.woodstockilchamber.com/events/details/novice-akc-rally-class-6373
END:VEVENT

END:VCALENDAR
