BEGIN:VCALENDAR
VERSION:2.0
PRODID:-//ChamberMaster//Event Calendar 2.0//EN
METHOD:PUBLISH
X-PUBLISHED-TTL:P3D
REFRESH-INTERVAL:P3D
CALSCALE:GREGORIAN
BEGIN:VEVENT
DTSTART:20200202T133000Z
DTEND:20200202T150000Z
X-MICROSOFT-CDO-ALLDAYEVENT:FALSE
SUMMARY:Official Groundhog Day Breakfast
DESCRIPTION:After the prognostication join Woodstock Willie and \n\nGroundhog Day polka band\, Die Musikmeisters\,\n\nfor breakfast and entertainment at the Woodstock Moose\,\n\n2 blocks North of the Square.  The bachelor auction and dance\n\nscenes were filmed right here.  Tickets are required.  Tickets\n\navailable online at www.woodstockgroundhog.org
X-ALT-DESC;FMTTYPE=text/html:After the prognostication join Woodstock Willie and&nbsp\;<br />\nGroundhog Day polka band\, Die Musikmeisters\,<br />\nfor breakfast and entertainment at the Woodstock Moose\,<br />\n2 blocks North of the Square.&nbsp\; The bachelor auction and dance<br />\nscenes were filmed right here.&nbsp\; Tickets are required.&nbsp\; Tickets<br />\navailable online at www.woodstockgroundhog.org<br />\n&nbsp\;
LOCATION:Woodstock Moose Lodge 406 Clay St. Woodstock\, IL
UID:e.2851.10455
SEQUENCE:3
DTSTAMP:20260423T020346Z
URL:https://business.woodstockilchamber.com/events/details/official-groundhog-day-breakfast-10455
END:VEVENT

END:VCALENDAR
